Workbook
Name BalanceSheet: Financials!$A$180:$A$224
Name CashFlowNegative: Calcs!$I$94:$BP$94
Name CashFlowPositive: Calcs!$I$93:$BP$93
Name CompanyInput: Input!$A$17:$A$26
Name CompanyType: Input!$CY$3
Name Histo: OFFSET(Infrastructure!XEX1048550:XEX93,0,0,COUNTIF(Infrastructure!XEX1048550:XEX93,"<>"")-countif(Infrastructure!K3:K122,"""))
Name Histoooo: Infrastructure!$V$5:INDEX(Infrastructure!$R:$R,COUNTA(Infrastructure!$R:$R))
Name HistoricalMonths: IF(Input!$AC$23="Yes",Infrastructure!$H$11:$H$128,Infrastructure!$M$9:$M$68)
Name HistoricalsRange: Input!$A$1529:$A$1578
Name Input: Input!$A$28:$A$33
Name Launch: 'Sources & Uses'!$N$1
Name Mode: Input!$BX$4
Name ModeDashboard: Input!$A$1:$CG$16
Name Months: IF(Input!$CE$4="Three",Infrastructure!$M$9:$M$44,Infrastructure!$M$9:$M$68)
Name PLExpenses: OFFSET(Infrastructure!$C$2,0,0,COUNTA(Infrastructure!$C$2:$C$6),1)
Name PLNetIncome: OFFSET(Infrastructure!$D$2,0,0,COUNTA(Infrastructure!$D$2:$D$6),1)
Name PLRevenue: OFFSET(Infrastructure!$B$2,0,0,COUNTA(Infrastructure!$B$2:$B$6),1)
Name PLYears: OFFSET(Infrastructure!$A$2,0,0,COUNTA(Infrastructure!$A$2:$A$6),1)
Name RecurringRevenue: Input!$A$1304:$A$1403
Name valuevx: 42.314159
Name Version: Infrastructure!$L$2
Name Years: Input!$CE$4

Sheet Accounting
AL78: Sales
AK79: Sales
AK80: Cost
AK81: Profit
T331: Revenue | U331: 654068
T332: Net Revenue | U332: 585432
T333: Gross Profit | U333: 345654
T334: EBITDA | U334: 220500
T335: Net Income | U335: 155456
AF671: Net Income
AA677: P&L | AD677: Cash Flow | AG677: Balance Sheet
AA679: Revenue | AD679: Net Income | AG679: Cash & Equivalents
AA680: COGS | AG680: AR
AA681: Gross Profit | AD681: Dep. & Amo. | AG681: Inventory
AD682: AP / AR | AG682: Current Assets
AA683: Sales & Marketing | AD683: Inventory
AA684: Operating Expenses | AD684: Operating Activities | AG684: Intangible Assets
AD685: Investing Activities | AG685: Fixed Assets
AA686: EBITDA | AD686: Financing Activities
AG687: Total Assets
AA688: Int, Tax, Dep, Amo | AD688: Net Change
AG689: Liabilities
AA690: Net Income | AD690: End of Period | AG690: Equity
AG692: Liabilities & Equity

Sheet Instructions
AG6: Contents
AG7: Sheets | AI7: Description
AG8: Instructions | AI8: This sheet. Explains the whole program and each sheet.
AG9: Input | AI9: The ONLY sheet where you enter info.
AG10: Financials | AI10: P&L, Cash Flow, Balance Sheet. You can view monthly or annually.
AG11: Street View | AI11: Shows cash in and out each month.
AG12: Summary | AI12: Easy glance summary of all your input.
AG13: Breakeven | AI13: Shows if/when you breakeven.
AG14: Analysis | AI14: Monthly performance indicators.
AG15: CAC LTV | AI15: Customer Acquisition Cost and Lifetime Value. (For Subscription models)
AG16: Sources & Uses | AI16: Where money comes from and goes.
AG17: Investors | AI17: Investor returns and performance metrics.
AG18: Reports | AI18: Summary results you can insert in PowerPoint decks, etc.

Sheet Input
D2: =TEXT(Infrastructure!H9,"yyyy"&" ") -> Year 1 | E2: =TEXT(Infrastructure!I9,"yyyy"&" ") -> Year 2 | F2: =TEXT(Infrastructure!J9,"yyyy"&" ") -> Year 3 | G2: =TEXT(Infrastructure!K9,"yyyy"&" ") -> Year 4 | H2: =TEXT(Infrastructure!L9,"yyyy"&" ") -> Year 5 | I2: =IF(Infrastructure!BL$39=0,"","Launch") | J2: =IF(SUM(Financials!Q63:BQ63)=0,"",IF(OR(Infrastructure!BL$39=0,Infrastructure!BK28=0),"Not Yet",IF(Calcs!B23=0,"Mon 1",Calcs!$B$23))) | BA2: Cash Out Month Is | BL2: P&L | BM2: =IF(OR(Financials!$BQ178=Input!$D$1576,SUM('Street View'!X22:X81)=0),"","P&L") | BN2: =IF(OR(Financials!$BQ178=Input!$D$1576,SUM('Street View'!X22:X81)=0),"","Cash Flow") | DE2: =IF($CY$5<>1,"Products","") -> Products | DF2: =IF($CY$5=1,"Products","") | DH2: =IF($CY$7<>1,"Yes","") -> Yes | DI2: =IF($CY$7=1,"Yes","") | DK2: Consultants | DN2: Headcount | DQ2: S&M | DT2: Operating | DW2: SAFES | DZ2: Convertible
C3: =Infrastructure!BE28 -> Revenue | D3: =IFERROR(Infrastructure!BF28,"") -> 0 | E3: =IFERROR(Infrastructure!BG28,"") -> 0 | F3: =IFERROR(Infrastructure!BH28,"") -> 0 | G3: =IFERROR(Infrastructure!BI28,"") -> 0 | H3: =IFERROR(Infrastructure!BJ28,"") -> 0 | I3: =IF(Infrastructure!BL$39=0,"","Breakeven") | J3: =IF(Infrastructure!BL$39=0,"",Calcs!$C$23) | BK3: =IF(X3>0,"Big time problems","") | BL3: P&L | CE3: Years | CY3: 1 | CZ3: Company Type | DE3: =IF($CY$5<>2,"Services","") -> Services | DF3: =IF($CY$5=2,"Services","") | DH3: =IF($CY$7<>2,"No","") | DI3: =IF($CY$7=2,"No","") -> No | DJ3: 0 | DK3: =IF(DJ3<>1,"Show","") -> Show | DL3: =IF(DJ3=1,"Show","") | DM3: 2 | DN3: =IF(DM3<>1,"Show","") -> Show | DO3: =IF(DM3=1,"Show","") | DP3: 2 | DQ3: =IF(DP3<>1,"Show","") -> Show | DR3: =IF(DP3=1,"Show","") | DS3: 2 | DT3: =IF(DS3<>1,"Show","") -> Show | DU3: =IF(DS3=1,"Show","") | DV3: 2 | DW3: =IF(DV3<>1,"Show","") -> Show | DX3: =IF(DV3=1,"Show","") | DY3: 2 | DZ3: =IF(DY3<>1,"Show","") -> Show | EA3: =IF(DY3=1,"Show","")
C4: =Infrastructure!BE29 -> COGS | D4: =IFERROR(Infrastructure!BF29,"") -> 0 | E4: =IFERROR(Infrastructure!BG29,"") -> 0 | F4: =IFERROR(Infrastructure!BH29,"") -> 0 | G4: =IFERROR(Infrastructure!BI29,"") -> 0 | H4: =IFERROR(Infrastructure!BJ29,"") -> 0 | I4: =IF(Infrastructure!BL$39=0,"",IF(Years="Five","5 Year CAGR","3 Year CAGR")) | J4: =Infrastructure!BJ22 | BS4: Revenue | BT4: / | BU4: Expenses | BV4: / | BW4: Net Income | BX4: Light | BY4: (Loss) | CE4: =IF(CE5=1,"Three","Five") -> Five | CT4: =IF($D$18<>"",$D$18&" Cash","Cash") -> Cash | CY4: 1 | CZ4: Historicals | DE4: =IF($CY$5<>3,"Both","") -> Both | DF4: =IF($CY$5=3,"Both","") | DH4: =IF(CY7=1,"Go to Subscriptions","") | DK4: =IF(DJ3<>2,"Hide","") -> Hide | DL4: =IF(DJ3=2,"Hide","") | DN4: =IF(DM3<>2,"Hide","") | DO4: =IF(DM3=2,"Hide","") -> Hide | DQ4: =IF(DP3<>2,"Hide","") | DR4: =IF(DP3=2,"Hide","") -> Hide | DT4: =IF(DS3<>2,"Hide","") | DU4: =IF(DS3=2,"Hide","") -> Hide | DW4: =IF(DV3<>2,"Hide","") | DX4: =IF(DV3=2,"Hide","") -> Hide | DZ4: =IF(DY3<>2,"Hide","") | EA4: =IF(DY3=2,"Hide","") -> Hide
C5: =Infrastructure!BE30 -> Gross Profit | D5: =IFERROR(Infrastructure!BF30,"") -> 0 | E5: =IFERROR(Infrastructure!BG30,"") -> 0 | F5: =IFERROR(Infrastructure!BH30,"") -> 0 | G5: =IFERROR(Infrastructure!BI30,"") -> 0 | H5: =IFERROR(Infrastructure!BJ30,"") -> 0 | CE5: 2 | CT5: =IF($D$18<>"",$D$18&" P&L","P&L") -> P&L | CY5: 0 | CZ5: Product / Service | DC5: =IF(CompanyType=0,1,VLOOKUP(CompanyType,CW6:CX9,2,FALSE)) -> C Corp
I6: =IF(Infrastructure!AL$45>0,"",Infrastructure!AL33) -> 0 | BQ6: Three | BS6: =IF(AND(Years="Three",Mode="Light"),BS$4,"") | BT6: =IF(AND(Years="Three",Mode="Light"),BT$4,"") | BU6: =IF(AND(Years="Three",Mode="Light"),BU$4,"") | BV6: =IF(AND(Years="Three",Mode="Light"),BV$4,"") | BW6: =IF(AND(Years="Three",Mode="Light"),BW$4,"") | BX6: =IF(AND(Years="Three",Mode="Light"),BX$4,"") | BY6: =IF(AND(Years="Three",Mode="Light"),BY$4,"") | CD6: 1 | CE6: =IF(Years="Five","Three Years","") -> Three Years | CU6: =IF(CompanyType<>1,"C Corp","") | CV6: =IF(CompanyType=1,"C Corp","") -> C Corp | CW6: 1 | CX6: C Corp | DE6: Bot
C7: =Infrastructure!BE32 -> S&M Expenses | D7: =IFERROR(Infrastructure!BF32,"") -> 0 | E7: =IFERROR(Infrastructure!BG32,"") -> 0 | F7: =IFERROR(Infrastructure!BH32,"") -> 0 | G7: =IFERROR(Infrastructure!BI32,"") -> 0 | H7: =IFERROR(Infrastructure!BJ32,"") -> 0 | I7: =IF(Infrastructure!BL$39=0,"","Investment") | J7: =IF(Infrastructure!BL$39=0,"",Calcs!D58+Calcs!D54+Calcs!D46) | BQ7: Three | BS7: =IF(AND(Years="Three",Mode="Dark"),BS$4,"") | BT7: =IF(AND(Years="Three",Mode="Dark"),BT$4,"") | BU7: =IF(AND(Years="Three",Mode="Dark"),BU$4,"") | BV7: =IF(AND(Years="Three",Mode="Dark"),BV$4,"") | BW7: =IF(AND(Years="Three",Mode="Dark"),BW$4,"") | BX7: =IF(AND(Years="Three",Mode="Dark"),BX$4,"") | BY7: =IF(AND(Years="Three",Mode="Dark"),BY$4,"") | CD7: 2 | CE7: =IF(Years="Three","Three Years","") | CU7: =IF(CompanyType<>2,"LLC","") -> LLC | CV7: =IF(CompanyType=2,"LLC","") | CW7: 2 | CX7: LLC | CY7: 2
C8: =Infrastructure!BE33 -> Oper. Expenses | D8: =IFERROR(Infrastructure!BF33,"") -> 0 | E8: =IFERROR(Infrastructure!BG33,"") -> 0 | F8: =IFERROR(Infrastructure!BH33,"") -> 0 | G8: =IFERROR(Infrastructure!BI33,"") -> 0 | H8: =IFERROR(Infrastructure!BJ33,"") -> 0 | I8: =IF(Infrastructure!BL$39=0,"","Debt") | J8: =IF(Infrastructure!BL$39=0,"",Calcs!D50) | BQ8: Five | BS8: =IF(AND(Years="Five",Mode="Light"),BS$4,"") -> Revenue | BT8: =IF(AND(Years="Five",Mode="Light"),BT$4,"") -> / | BU8: =IF(AND(Years="Five",Mode="Light"),BU$4,"") -> Expenses | BV8: =IF(AND(Years="Five",Mode="Light"),BV$4,"") -> / | BW8: =IF(AND(Years="Five",Mode="Light"),BW$4,"") -> Net Income | BX8: =IF(AND(Years="Five",Mode="Light"),BX$4,"") -> Light | BY8: =IF(AND(Years="Five",Mode="Light"),BY$4,"") -> (Loss) | CD8: 3 | CE8: =IF(Years="Five","","Five Years") | CU8: =IF(CompanyType<>3,"S Corp","") -> S Corp | CV8: =IF(CompanyType=3,"S Corp","") | CW8: 3 | CX8: S Corp | CY8: 0 | CZ8: Show Consultants | DC8: =IF(CY4=1,"Go to Historicals","") -> Go to Historicals
C9: =Infrastructure!BE34 -> EBITDA | D9: =IFERROR(Infrastructure!BF34,"") -> 0 | E9: =IFERROR(Infrastructure!BG34,"") -> 0 | F9: =IFERROR(Infrastructure!BH34,"") -> 0 | G9: =IFERROR(Infrastructure!BI34,"") -> 0 | H9: =IFERROR(Infrastructure!BJ34,"") -> 0 | I9: Valuation | J9: =IF(Investors!C12>0,Investors!C12,"") | BQ9: Five | BS9: =IF(AND(Years="Five",Mode="Dark"),BS$4,"") | BT9: =IF(AND(Years="Five",Mode="Dark"),BT$4,"") | BU9: =IF(AND(Years="Five",Mode="Dark"),BU$4,"") | BV9: =IF(AND(Years="Five",Mode="Dark"),BV$4,"") | BW9: =IF(AND(Years="Five",Mode="Dark"),BW$4,"") | BX9: =IF(AND(Years="Five",Mode="Dark"),BX$4,"") | BY9: =IF(AND(Years="Five",Mode="Dark"),BY$4,"") | CD9: 4 | CE9: =IF(Years="Five","Five Years","") -> Five Years | CU9: =IF(CompanyType<>4,"Non-Profit","") -> Non-Profit | CV9: =IF(CompanyType=4,"Non-Profit","") | CW9: 4 | CX9: Non-Profit
C11: =Infrastructure!BE36 -> Int. Tax. Dep. Amo. | D11: =IFERROR(Infrastructure!BF36,"") -> 0 | E11: =IFERROR(Infrastructure!BG36,"") -> 0 | F11: =IFERROR(Infrastructure!BH36,"") -> 0 | G11: =IFERROR(Infrastructure!BI36,"") -> 0 | H11: =IFERROR(Infrastructure!BJ36,"") -> 0 | AU11: Three Years | CR11: =IF($CY$4=2,"","No") -> No | CS11: =IF($CY$4<>2,"","No") | CZ11: =IF(CY5=1,"Number of Products ",IF(CY5=2,"Number of Services ","Number of Products / Services ")) -> Number of Products / Services
B12: Mode | C12: =Infrastructure!BE37 -> Net Income | D12: =IFERROR(Infrastructure!BF37,"") -> 0 | E12: =IFERROR(Infrastructure!BG37,"") -> 0 | F12: =IFERROR(Infrastructure!BH37,"") -> 0 | G12: =IFERROR(Infrastructure!BI37,"") -> 0 | H12: =IFERROR(Infrastructure!BJ37,"") -> 0 | I12: =IF(Infrastructure!BL$39=0,"","Cash Out") | J12: =IFERROR(IF(Infrastructure!BL$39=0,"",Calcs!G59),"None") | AU12: Five Years | BM12: =IF(Years="Five",Infrastructure!H9,"") -> Year 1 | BN12: =IF(Years="Five",Infrastructure!I9,"") -> Year 2 | BO12: =IF(Years="Five",Infrastructure!J9,"") -> Year 3 | BP12: =IF(Years="Five",Infrastructure!K9,"") -> Year 4 | BQ12: =IF(Years="Five",Infrastructure!L9,"") -> Year 5 | CR12: =IF($CY$4=1,"","Yes") | CS12: =IF($CY$4<>1,"","Yes") -> Yes
C13: ="Least Cash"&" " -> Least Cash | D13: =IFERROR(Infrastructure!BF39,"") | E13: =IFERROR(Infrastructure!BG39,"") | F13: =IFERROR(Infrastructure!BH39,"") | G13: =IFERROR(Infrastructure!BI39,"") | H13: =IFERROR(Infrastructure!BJ39,"") | I13: =IF(Infrastructure!BL$39=0,"","Min. Cash") | J13: =IF(Infrastructure!BL$39=0,"",IF(Years="Five",MIN(Calcs!I29:BP29),MIN(Calcs!I29:AR29))) | BM13: =IF(Years="Three",Infrastructure!H9,"") | BN13: =IF(Years="Three",Infrastructure!I9,"") | BO13: =IF(Years="Three",Infrastructure!J9,"")
C14: =Infrastructure!BE40 -> Year End Cash | D14: =IFERROR(Infrastructure!BF40,"") | E14: =IFERROR(Infrastructure!BG40,"") | F14: =IFERROR(Infrastructure!BH40,"") | G14: =IFERROR(Infrastructure!BI40,"") | H14: =IFERROR(Infrastructure!BJ40,"") | I14: =IF(Infrastructure!BL$39=0,"","Max. Cash") | J14: =IF(Infrastructure!BL$39=0,"",IF(Years="Five",MAX(Calcs!I29:BP29),MAX(Calcs!I29:AR29)))
B17: Company
C18: Company Name | D18: Alta Vista Coffee Roasters
C20: Start Month | D20: 46418 | CR20: MMM
AE21: =IF(OR(Infrastructure!AL45>0,D20="",AD21="",AC23<>""),"",IF(Infrastructure!W128<>""," "&Infrastructure!Y18,""))
E23: Federal Tax Rate | F23: State Tax Rate
E24: 0.21 | F24: 0.05
B27: Sales
D29: One Time Sales | F29: Recurring Sales
D32: (Up to 25)
C33: =CZ11 -> Number of Products / Services | D33: 3
D36: Item 1 | E36: Item 2 | F36: Item 3 | G36: Item 4 | H36: Item 5 | I36: Item 6 | J36: Item 7 | K36: Item 8 | L36: Item 9 | M36: Item 10 | N36: Item 11 | O36: Item 12 | P36: Item 13 | Q36: Item 14 | R36: Item 15 | S36: Item 16 | T36: Item 17 | U36: Item 18 | V36: Item 19 | W36: Item 20 | X36: Item 21 | Y36: Item 22 | Z36: Item 23 | AA36: Item 24 | AB36: Item 25
C37: =IF(CY5=1,"Product ",IF(CY5=2,"Service ","Product / Service ")) -> Product / Service | D37: Retail Bags 12oz | E37: Wholesale 5lb | F37: Cafe Drinks | G37: Item 4 | H37: Item 5 | I37: Item 6 | J37: Item 7 | K37: Item 8 | L37: Item 9 | M37: Item 10 | N37: Item 11 | O37: Item 12 | P37: Item 13 | Q37: Item 14 | R37: Item 15 | S37: Item 16 | T37: Item 17 | U37: Item 18 | V37: Item 19 | W37: Item 20 | X37: Item 21 | Y37: Item 22 | Z37: Item 23 | AA37: Item 24 | AB37: Item 25
D38: 1 | E38: 2 | F38: 3 | G38: 4 | H38: 5 | I38: 6 | J38: 7 | K38: 8 | L38: 9 | M38: 10 | N38: 11 | O38: 12 | P38: 13 | Q38: 14 | R38: 15 | S38: 16 | T38: 17 | U38: 18 | V38: 19 | W38: 20 | X38: 21 | Y38: 22 | Z38: 23 | AA38: 24 | AB38: 25
C39: Category
D40: =IF(D39="",D37,D39) -> Item 1 | E40: =IF(E39="",E37,E39) -> Item 2 | F40: =IF(F39="",F37,F39) -> Item 3 | G40: =IF(G39="",G37,G39) -> Item 4 | H40: =IF(H39="",H37,H39) -> Item 5 | I40: =IF(I39="",I37,I39) -> Item 6 | J40: =IF(J39="",J37,J39) -> Item 7 | K40: =IF(K39="",K37,K39) -> Item 8 | ... AB40: =IF(AB39="",AB37,AB39) -> Item 25
C41: =TEXT(Infrastructure!G23,"#,##0;;@")&TEXT(Infrastructure!I17,"yyyy;;@") -> Your Selling Price - Year 1 | D41: 18 | E41: 55 | F41: 5.5 | Z41: 0 | AA41: 0 | AB41: 0
C42: =Infrastructure!I18 -> Year 2 | D42: =D41 -> 0 | E42: =E41 -> 0 | F42: =F41 -> 0 | G42: =G41 -> 0 | H42: =H41 -> 0 | I42: =I41 -> 0 | J42: =J41 -> 0 | K42: =K41 -> 0 | ... AB42: =AB41 -> 0
C43: =Infrastructure!I19 -> Year 3 | D43: =D42 -> 0 | E43: =E42 -> 0 | F43: =F42 -> 0 | G43: =G42 -> 0 | H43: =H42 -> 0 | I43: =I42 -> 0 | J43: =J42 -> 0 | K43: =K42 -> 0 | ... AB43: =AB42 -> 0
C44: =Infrastructure!I20 -> Year 4 | D44: =D43 -> 0 | E44: =E43 -> 0 | F44: =F43 -> 0 | G44: =G43 -> 0 | H44: =H43 -> 0 | I44: =I43 -> 0 | J44: =J43 -> 0 | K44: =K43 -> 0 | ... AB44: =AB43 -> 0
C45: =Infrastructure!I21 -> Year 5 | D45: =D44 -> 0 | E45: =E44 -> 0 | F45: =F44 -> 0 | G45: =G44 -> 0 | H45: =H44 -> 0 | I45: =I44 -> 0 | J45: =J44 -> 0 | K45: =K44 -> 0 | ... AB45: =AB44 -> 0
C46: =TEXT(Infrastructure!G24,"#,##0;;@")&TEXT(Infrastructure!I17,"yyyy;;@") -> Your Cost - Year 1 | D46: 6.5 | E46: 28 | F46: 1.4 | Z46: 0 | AA46: 0 | AB46: 0
C47: =C42 -> Year 2 | D47: =D46 -> 0 | E47: =E46 -> 0 | F47: =F46 -> 0 | G47: =G46 -> 0 | H47: =H46 -> 0 | I47: =I46 -> 0 | J47: =J46 -> 0 | K47: =K46 -> 0 | ... AB47: =AB46 -> 0
C48: =C43 -> Year 3 | D48: =D47 -> 0 | E48: =E47 -> 0 | F48: =F47 -> 0 | G48: =G47 -> 0 | H48: =H47 -> 0 | I48: =I47 -> 0 | J48: =J47 -> 0 | K48: =K47 -> 0 | ... AB48: =AB47 -> 0
C49: =C44 -> Year 4 | D49: =D48 -> 0 | E49: =E48 -> 0 | F49: =F48 -> 0 | G49: =G48 -> 0 | H49: =H48 -> 0 | I49: =I48 -> 0 | J49: =J48 -> 0 | K49: =K48 -> 0 | ... AB49: =AB48 -> 0
C50: =C45 -> Year 5 | D50: =D49 -> 0 | E50: =E49 -> 0 | F50: =F49 -> 0 | G50: =G49 -> 0 | H50: =H49 -> 0 | I50: =I49 -> 0 | J50: =J49 -> 0 | K50: =K49 -> 0 | ... AB50: =AB49 -> 0
C51: Bad Debt / Returns
C52: Commissions
C53: Royalty / Franchise
...

Sheet Financials
B1: Financials | F1: 2 | G1: 3 | H1: 4 | I1: 5 | J1: 6 | K1: 7 | L1: 8 | M1: 9 | N1: 10 | O1: 11 | P1: 12 | R1: 13 | S1: 14 | T1: 15 | U1: 16 | V1: 17 | W1: 18 | X1: 19 | Y1: 20 | Z1: 21 | AA1: 22 | AB1: 23 | AC1: 24 | AE1: 25 | AF1: 26 | AG1: 27 | AH1: 28 | AI1: 29 | AJ1: 30 | AK1: 31 | AL1: 32 | AM1: 33 | AN1: 34 | AO1: 35 | AP1: 36 | AR1: 37 | AS1: 38 | AT1: 39 | AU1: 40 | AV1: 41 | AW1: 42 | AX1: 43 | AY1: 44 | AZ1: 45 | BA1: 46 | BB1: 47 | BC1: 48 | BE1: 49 | BF1: 50 | BG1: 51 | BH1: 52 | BI1: 53 | BJ1: 54 | BK1: 55 | BL1: 56 | BM1: 57 | BN1: 58 | BO1: 59 | BP1: 60 | BY1: Quarterly
D2: P&L | G2: Mon 3 | H2: Mon 4 | I2: Mon 5 | R2: Mon 6 | BV2: Mon 57 | BY2: Mon 58 | BZ2: Mon 59 | CA2: Mon 60
E3: =Infrastructure!H14 -> 0 | F3: =Infrastructure!I14 -> 59 | G3: =Infrastructure!J14 -> 91 | H3: =Infrastructure!K14 -> 121 | I3: =Infrastructure!L14 -> 152 | J3: =Infrastructure!M14 -> 182 | K3: =Infrastructure!N14 -> 213 | L3: =Infrastructure!O14 -> 244 | ... P3: =Infrastructure!S14 -> 366 | Q3: =Infrastructure!H9 -> Year 1 | R3: =Infrastructure!T14 -> 397 | S3: =Infrastructure!U14 -> 425 | T3: =Infrastructure!V14 -> 456 | U3: =Infrastructure!W14 -> 486 | V3: =Infrastructure!X14 -> 517 | W3: =Infrastructure!Y14 -> 547 | X3: =Infrastructure!Z14 -> 578 | Y3: =Infrastructure!AA14 -> 609 | ... AC3: =Infrastructure!AE14 -> 731 | AD3: =Infrastructure!I9 -> Year 2 | AE3: =Infrastructure!AF14 -> 762 | AF3: =Infrastructure!AG14 -> 790 | AG3: =Infrastructure!AH14 -> 821 | AH3: =Infrastructure!AI14 -> 851 | AI3: =Infrastructure!AJ14 -> 882 | AJ3: =Infrastructure!AK14 -> 912 | AK3: =Infrastructure!AL14 -> 943 | AL3: =Infrastructure!AM14 -> 974 | ... AP3: =Infrastructure!AQ14 -> 1096 | AQ3: =Infrastructure!J9 -> Year 3 | AR3: =Infrastructure!AR14 -> 1127 | AS3: =Infrastructure!AS14 -> 1155 | AT3: =Infrastructure!AT14 -> 1186 | AU3: =Infrastructure!AU14 -> 1216 | AV3: =Infrastructure!AV14 -> 1247 | AW3: =Infrastructure!AW14 -> 1277 | AX3: =Infrastructure!AX14 -> 1308 | AY3: =Infrastructure!AY14 -> 1339 | ... BC3: =Infrastructure!BC14 -> 1461 | BD3: =Infrastructure!K9 -> Year 4 | BE3: =Infrastructure!BD14 -> 1492 | BF3: =Infrastructure!BE14 -> 1521 | BG3: =Infrastructure!BF14 -> 1552 | BH3: =Infrastructure!BG14 -> 1582 | BI3: =Infrastructure!BH14 -> 1613 | BJ3: =Infrastructure!BI14 -> 1643 | BK3: =Infrastructure!BJ14 -> 1674 | BL3: =Infrastructure!BK14 -> 1705 | ... BP3: =Infrastructure!BO14 -> 1827 | BQ3: =Infrastructure!L9 -> Year 5 | BU3: Total
D4: =IF(Infrastructure!AO26=Infrastructure!AN26,"Revenue","Revenue - Hidden Rows with Values") -> Revenue | BV4: Revenue
B5: =IF(Input!D1309="Monthly","This row can be hidden","") | D5: Subscription - Annual (Earned) | E5: =Calcs!L192 -> 0 | F5: =Calcs!M192 -> 0 | G5: =Calcs!N192 -> 0 | H5: =Calcs!O192 -> 0 | I5: =Calcs!P192 -> 0 | J5: =Calcs!Q192 -> 0 | K5: =Calcs!R192 -> 0 | L5: =Calcs!S192 -> 0 | ... P5: =Calcs!W192 -> 0 | Q5: =SUM(E5:P5) -> 0 | R5: =Calcs!X192 -> 0 | S5: =Calcs!Y192 -> 0 | T5: =Calcs!Z192 -> 0 | U5: =Calcs!AA192 -> 0 | V5: =Calcs!AB192 -> 0 | W5: =Calcs!AC192 -> 0 | X5: =Calcs!AD192 -> 0 | Y5: =Calcs!AE192 -> 0 | ... AC5: =Calcs!AI192 -> 0 | AD5: =SUM(R5:AC5) -> 0 | AE5: =Calcs!AJ192 -> 0 | AF5: =Calcs!AK192 -> 0 | AG5: =Calcs!AL192 -> 0 | AH5: =Calcs!AM192 -> 0 | AI5: =Calcs!AN192 -> 0 | AJ5: =Calcs!AO192 -> 0 | AK5: =Calcs!AP192 -> 0 | AL5: =Calcs!AQ192 -> 0 | ... AP5: =Calcs!AU192 -> 0 | AQ5: =SUM(AE5:AP5) -> 0 | AR5: =Calcs!AV192 -> 0 | AS5: =Calcs!AW192 -> 0 | AT5: =Calcs!AX192 -> 0 | AU5: =Calcs!AY192 -> 0 | AV5: =Calcs!AZ192 -> 0 | AW5: =Calcs!BA192 -> 0 | AX5: =Calcs!BB192 -> 0 | AY5: =Calcs!BC192 -> 0 | ... BC5: =Calcs!BG192 -> 0 | BD5: =SUM(AR5:BC5) -> 0 | BE5: =Calcs!BH192 -> 0 | BF5: =Calcs!BI192 -> 0 | BG5: =Calcs!BJ192 -> 0 | BH5: =Calcs!BK192 -> 0 | BI5: =Calcs!BL192 -> 0 | BJ5: =Calcs!BM192 -> 0 | BK5: =Calcs!BN192 -> 0 | BL5: =Calcs!BO192 -> 0 | ... BP5: =Calcs!BS192 -> 0 | BQ5: =SUM(BE5:BP5) -> 0 | BS5: =SUM(BQ5,BD5,AQ5,AD5,Q5) -> 0 | BU5: =SUM(BQ5,BD5,AQ5,AD5,Q5) -> 0 | BV5: =D5 -> Subscription - Annual (Earned) | BW5: =SUM(Financials!E5:'Financials'!G5) -> 0 | BX5: =SUM(Financials!H5:'Financials'!J5) -> 0 | BY5: =SUM(Financials!K5:'Financials'!M5) -> 0 | BZ5: =SUM(Financials!N5:'Financials'!P5) -> 0 | CA5: =SUM(Financials!R5:'Financials'!T5) -> 0 | CB5: =SUM(Financials!U5:'Financials'!W5) -> 0 | CC5: =SUM(Financials!X5:'Financials'!Z5) -> 0 | CD5: =SUM(Financials!AA5:'Financials'!AC5) -> 0 | CE5: =SUM(Financials!AE5:'Financials'!AG5) -> 0 | CF5: =SUM(Financials!AH5:'Financials'!AJ5) -> 0 | CG5: =SUM(Financials!AK5:'Financials'!AM5) -> 0 | CH5: =SUM(Financials!AN5:'Financials'!AP5) -> 0 | CI5: =SUM(Financials!AR5:'Financials'!AT5) -> 0 | CJ5: =SUM(Financials!AU5:'Financials'!AW5) -> 0 | CK5: =SUM(Financials!AX5:'Financials'!AZ5) -> 0 | CL5: =SUM(Financials!BA5:'Financials'!BC5) -> 0 | CM5: =SUM(Financials!BE5:'Financials'!BG5) -> 0 | CN5: =SUM(Financials!BH5:'Financials'!BJ5) -> 0 | CO5: =SUM(Financials!BK5:'Financials'!BM5) -> 0 | CP5: =SUM(Financials!BN5:'Financials'!BP5) -> 0
B6: =IF(Input!D1309="Annual","This row can be hidden","") | D6: Subscription - Monthly | E6: =Calcs!L194 -> 0 | F6: =Calcs!M194 -> 0 | G6: =Calcs!N194 -> 0 | H6: =Calcs!O194 -> 0 | I6: =Calcs!P194 -> 0 | J6: =Calcs!Q194 -> 0 | K6: =Calcs!R194 -> 0 | L6: =Calcs!S194 -> 0 | ... P6: =Calcs!W194 -> 0 | Q6: =SUM(E6:P6) -> 0 | R6: =Calcs!X194 -> 0 | S6: =Calcs!Y194 -> 0 | T6: =Calcs!Z194 -> 0 | U6: =Calcs!AA194 -> 0 | V6: =Calcs!AB194 -> 0 | W6: =Calcs!AC194 -> 0 | X6: =Calcs!AD194 -> 0 | Y6: =Calcs!AE194 -> 0 | ... AC6: =Calcs!AI194 -> 0 | AD6: =SUM(R6:AC6) -> 0 | AE6: =Calcs!AJ194 -> 0 | AF6: =Calcs!AK194 -> 0 | AG6: =Calcs!AL194 -> 0 | AH6: =Calcs!AM194 -> 0 | AI6: =Calcs!AN194 -> 0 | AJ6: =Calcs!AO194 -> 0 | AK6: =Calcs!AP194 -> 0 | AL6: =Calcs!AQ194 -> 0 | ... AP6: =Calcs!AU194 -> 0 | AQ6: =SUM(AE6:AP6) -> 0 | AR6: =Calcs!AV194 -> 0 | AS6: =Calcs!AW194 -> 0 | AT6: =Calcs!AX194 -> 0 | AU6: =Calcs!AY194 -> 0 | AV6: =Calcs!AZ194 -> 0 | AW6: =Calcs!BA194 -> 0 | AX6: =Calcs!BB194 -> 0 | AY6: =Calcs!BC194 -> 0 | ... BC6: =Calcs!BG194 -> 0 | BD6: =SUM(AR6:BC6) -> 0 | BE6: =Calcs!BH194 -> 0 | BF6: =Calcs!BI194 -> 0 | BG6: =Calcs!BJ194 -> 0 | BH6: =Calcs!BK194 -> 0 | BI6: =Calcs!BL194 -> 0 | BJ6: =Calcs!BM194 -> 0 | BK6: =Calcs!BN194 -> 0 | BL6: =Calcs!BO194 -> 0 | ... BP6: =Calcs!BS194 -> 0 | BQ6: =SUM(BE6:BP6) -> 0 | BS6: =SUM(BQ6,BD6,AQ6,AD6,Q6) -> 0 | BU6: =SUM(BQ6,BD6,AQ6,AD6,Q6) -> 0 | BV6: Social | BW6: =SUM(Financials!E6:'Financials'!G6) -> 0 | BX6: =SUM(Financials!H6:'Financials'!J6) -> 0 | BY6: =SUM(Financials!K6:'Financials'!M6) -> 0 | BZ6: =SUM(Financials!N6:'Financials'!P6) -> 0 | CA6: =SUM(Financials!R6:'Financials'!T6) -> 0 | CB6: =SUM(Financials!U6:'Financials'!W6) -> 0 | CC6: =SUM(Financials!X6:'Financials'!Z6) -> 0 | CD6: =SUM(Financials!AA6:'Financials'!AC6) -> 0 | CE6: =SUM(Financials!AE6:'Financials'!AG6) -> 0 | CF6: =SUM(Financials!AH6:'Financials'!AJ6) -> 0 | CG6: =SUM(Financials!AK6:'Financials'!AM6) -> 0 | CH6: =SUM(Financials!AN6:'Financials'!AP6) -> 0 | CI6: =SUM(Financials!AR6:'Financials'!AT6) -> 0 | CJ6: =SUM(Financials!AU6:'Financials'!AW6) -> 0 | CK6: =SUM(Financials!AX6:'Financials'!AZ6) -> 0 | CL6: =SUM(Financials!BA6:'Financials'!BC6) -> 0 | CM6: =SUM(Financials!BE6:'Financials'!BG6) -> 0 | CN6: =SUM(Financials!BH6:'Financials'!BJ6) -> 0 | CO6: =SUM(Financials!BK6:'Financials'!BM6) -> 0 | CP6: =SUM(Financials!BN6:'Financials'!BP6) -> 0
D7: =Calcs!K211 -> Item 1 | E7: =Calcs!L211 -> 0 | F7: =Calcs!M211 -> 0 | G7: =Calcs!N211 -> 0 | H7: =Calcs!O211 -> 0 | I7: =Calcs!P211 -> 0 | J7: =Calcs!Q211 -> 0 | K7: =Calcs!R211 -> 0 | ... P7: =Calcs!W211 -> 0 | Q7: =SUM(E7:P7) -> 0 | R7: =Calcs!X211 -> 0 | S7: =Calcs!Y211 -> 0 | T7: =Calcs!Z211 -> 0 | U7: =Calcs!AA211 -> 0 | V7: =Calcs!AB211 -> 0 | W7: =Calcs!AC211 -> 0 | X7: =Calcs!AD211 -> 0 | Y7: =Calcs!AE211 -> 0 | ... AC7: =Calcs!AI211 -> 0 | AD7: =SUM(R7:AC7) -> 0 | AE7: =Calcs!AJ211 -> 0 | AF7: =Calcs!AK211 -> 0 | AG7: =Calcs!AL211 -> 0 | AH7: =Calcs!AM211 -> 0 | AI7: =Calcs!AN211 -> 0 | AJ7: =Calcs!AO211 -> 0 | AK7: =Calcs!AP211 -> 0 | AL7: =Calcs!AQ211 -> 0 | ... AP7: =Calcs!AU211 -> 0 | AQ7: =SUM(AE7:AP7) -> 0 | AR7: =Calcs!AV211 -> 0 | AS7: =Calcs!AW211 -> 0 | AT7: =Calcs!AX211 -> 0 | AU7: =Calcs!AY211 -> 0 | AV7: =Calcs!AZ211 -> 0 | AW7: =Calcs!BA211 -> 0 | AX7: =Calcs!BB211 -> 0 | AY7: =Calcs!BC211 -> 0 | ... BC7: =Calcs!BG211 -> 0 | BD7: =SUM(AR7:BC7) -> 0 | BE7: =Calcs!BH211 -> 0 | BF7: =Calcs!BI211 -> 0 | BG7: =Calcs!BJ211 -> 0 | BH7: =Calcs!BK211 -> 0 | BI7: =Calcs!BL211 -> 0 | BJ7: =Calcs!BM211 -> 0 | BK7: =Calcs!BN211 -> 0 | BL7: =Calcs!BO211 -> 0 | ... BP7: =Calcs!BS211 -> 0 | BQ7: =SUM(BE7:BP7) -> 0 | BS7: =SUM(BQ7,BD7,AQ7,AD7,Q7) -> 0 | BU7: =SUM(BQ7,BD7,AQ7,AD7,Q7)
D8: =Calcs!K212 -> Item 2 | E8: =Calcs!L212 -> 0 | F8: =Calcs!M212 -> 0 | G8: =Calcs!N212 -> 0 | H8: =Calcs!O212 -> 0 | I8: =Calcs!P212 -> 0 | J8: =Calcs!Q212 -> 0 | K8: =Calcs!R212 -> 0 | ... P8: =Calcs!W212 -> 0 | Q8: =SUM(E8:P8) -> 0 | R8: =Calcs!X212 -> 0 | S8: =Calcs!Y212 -> 0 | T8: =Calcs!Z212 -> 0 | U8: =Calcs!AA212 -> 0 | V8: =Calcs!AB212 -> 0 | W8: =Calcs!AC212 -> 0 | X8: =Calcs!AD212 -> 0 | Y8: =Calcs!AE212 -> 0 | ... AC8: =Calcs!AI212 -> 0 | AD8: =SUM(R8:AC8) -> 0 | AE8: =Calcs!AJ212 -> 0 | AF8: =Calcs!AK212 -> 0 | AG8: =Calcs!AL212 -> 0 | AH8: =Calcs!AM212 -> 0 | AI8: =Calcs!AN212 -> 0 | AJ8: =Calcs!AO212 -> 0 | AK8: =Calcs!AP212 -> 0 | AL8: =Calcs!AQ212 -> 0 | ... AP8: =Calcs!AU212 -> 0 | AQ8: =SUM(AE8:AP8) -> 0 | AR8: =Calcs!AV212 -> 0 | AS8: =Calcs!AW212 -> 0 | AT8: =Calcs!AX212 -> 0 | AU8: =Calcs!AY212 -> 0 | AV8: =Calcs!AZ212 -> 0 | AW8: =Calcs!BA212 -> 0 | AX8: =Calcs!BB212 -> 0 | AY8: =Calcs!BC212 -> 0 | ... BC8: =Calcs!BG212 -> 0 | BD8: =SUM(AR8:BC8) -> 0 | BE8: =Calcs!BH212 -> 0 | BF8: =Calcs!BI212 -> 0 | BG8: =Calcs!BJ212 -> 0 | BH8: =Calcs!BK212 -> 0 | BI8: =Calcs!BL212 -> 0 | BJ8: =Calcs!BM212 -> 0 | BK8: =Calcs!BN212 -> 0 | BL8: =Calcs!BO212 -> 0 | ... BP8: =Calcs!BS212 -> 0 | BQ8: =SUM(BE8:BP8) -> 0 | BS8: =SUM(BQ8,BD8,AQ8,AD8,Q8) -> 0 | BU8: =SUM(BQ8,BD8,AQ8,AD8,Q8)
D9: =Calcs!K213 -> Item 3 | E9: =Calcs!L213 -> 0 | F9: =Calcs!M213 -> 0 | G9: =Calcs!N213 -> 0 | H9: =Calcs!O213 -> 0 | I9: =Calcs!P213 -> 0 | J9: =Calcs!Q213 -> 0 | K9: =Calcs!R213 -> 0 | ... P9: =Calcs!W213 -> 0 | Q9: =SUM(E9:P9) -> 0 | R9: =Calcs!X213 -> 0 | S9: =Calcs!Y213 -> 0 | T9: =Calcs!Z213 -> 0 | U9: =Calcs!AA213 -> 0 | V9: =Calcs!AB213 -> 0 | W9: =Calcs!AC213 -> 0 | X9: =Calcs!AD213 -> 0 | Y9: =Calcs!AE213 -> 0 | ... AC9: =Calcs!AI213 -> 0 | AD9: =SUM(R9:AC9) -> 0 | AE9: =Calcs!AJ213 -> 0 | AF9: =Calcs!AK213 -> 0 | AG9: =Calcs!AL213 -> 0 | AH9: =Calcs!AM213 -> 0 | AI9: =Calcs!AN213 -> 0 | AJ9: =Calcs!AO213 -> 0 | AK9: =Calcs!AP213 -> 0 | AL9: =Calcs!AQ213 -> 0 | ... AP9: =Calcs!AU213 -> 0 | AQ9: =SUM(AE9:AP9) -> 0 | AR9: =Calcs!AV213 -> 0 | AS9: =Calcs!AW213 -> 0 | AT9: =Calcs!AX213 -> 0 | AU9: =Calcs!AY213 -> 0 | AV9: =Calcs!AZ213 -> 0 | AW9: =Calcs!BA213 -> 0 | AX9: =Calcs!BB213 -> 0 | AY9: =Calcs!BC213 -> 0 | ... BC9: =Calcs!BG213 -> 0 | BD9: =SUM(AR9:BC9) -> 0 | BE9: =Calcs!BH213 -> 0 | BF9: =Calcs!BI213 -> 0 | BG9: =Calcs!BJ213 -> 0 | BH9: =Calcs!BK213 -> 0 | BI9: =Calcs!BL213 -> 0 | BJ9: =Calcs!BM213 -> 0 | BK9: =Calcs!BN213 -> 0 | BL9: =Calcs!BO213 -> 0 | ... BP9: =Calcs!BS213 -> 0 | BQ9: =SUM(BE9:BP9) -> 0 | BS9: =SUM(BQ9,BD9,AQ9,AD9,Q9) -> 0 | BU9: =SUM(BQ9,BD9,AQ9,AD9,Q9)
D10: =Calcs!K214 -> Item 4 | E10: =Calcs!L214 -> 0 | F10: =Calcs!M214 -> 0 | G10: =Calcs!N214 -> 0 | H10: =Calcs!O214 -> 0 | I10: =Calcs!P214 -> 0 | J10: =Calcs!Q214 -> 0 | K10: =Calcs!R214 -> 0 | ... P10: =Calcs!W214 -> 0 | Q10: =SUM(E10:P10) -> 0 | R10: =Calcs!X214 -> 0 | S10: =Calcs!Y214 -> 0 | T10: =Calcs!Z214 -> 0 | U10: =Calcs!AA214 -> 0 | V10: =Calcs!AB214 -> 0 | W10: =Calcs!AC214 -> 0 | X10: =Calcs!AD214 -> 0 | Y10: =Calcs!AE214 -> 0 | ... AC10: =Calcs!AI214 -> 0 | AD10: =SUM(R10:AC10) -> 0 | AE10: =Calcs!AJ214 -> 0 | AF10: =Calcs!AK214 -> 0 | AG10: =Calcs!AL214 -> 0 | AH10: =Calcs!AM214 -> 0 | AI10: =Calcs!AN214 -> 0 | AJ10: =Calcs!AO214 -> 0 | AK10: =Calcs!AP214 -> 0 | AL10: =Calcs!AQ214 -> 0 | ... AP10: =Calcs!AU214 -> 0 | AQ10: =SUM(AE10:AP10) -> 0 | AR10: =Calcs!AV214 -> 0 | AS10: =Calcs!AW214 -> 0 | AT10: =Calcs!AX214 -> 0 | AU10: =Calcs!AY214 -> 0 | AV10: =Calcs!AZ214 -> 0 | AW10: =Calcs!BA214 -> 0 | AX10: =Calcs!BB214 -> 0 | AY10: =Calcs!BC214 -> 0 | ... BC10: =Calcs!BG214 -> 0 | BD10: =SUM(AR10:BC10) -> 0 | BE10: =Calcs!BH214 -> 0 | BF10: =Calcs!BI214 -> 0 | BG10: =Calcs!BJ214 -> 0 | BH10: =Calcs!BK214 -> 0 | BI10: =Calcs!BL214 -> 0 | BJ10: =Calcs!BM214 -> 0 | BK10: =Calcs!BN214 -> 0 | BL10: =Calcs!BO214 -> 0 | ... BP10: =Calcs!BS214 -> 0 | BQ10: =SUM(BE10:BP10) -> 0 | BS10: =SUM(BQ10,BD10,AQ10,AD10,Q10) -> 0 | BU10: =SUM(BQ10,BD10,AQ10,AD10,Q10)
D11: =Calcs!K215 -> Item 5 | E11: =Calcs!L215 -> 0 | F11: =Calcs!M215 -> 0 | G11: =Calcs!N215 -> 0 | H11: =Calcs!O215 -> 0 | I11: =Calcs!P215 -> 0 | J11: =Calcs!Q215 -> 0 | K11: =Calcs!R215 -> 0 | ... P11: =Calcs!W215 -> 0 | Q11: =SUM(E11:P11) -> 0 | R11: =Calcs!X215 -> 0 | S11: =Calcs!Y215 -> 0 | T11: =Calcs!Z215 -> 0 | U11: =Calcs!AA215 -> 0 | V11: =Calcs!AB215 -> 0 | W11: =Calcs!AC215 -> 0 | X11: =Calcs!AD215 -> 0 | Y11: =Calcs!AE215 -> 0 | ... AC11: =Calcs!AI215 -> 0 | AD11: =SUM(R11:AC11) -> 0 | AE11: =Calcs!AJ215 -> 0 | AF11: =Calcs!AK215 -> 0 | AG11: =Calcs!AL215 -> 0 | AH11: =Calcs!AM215 -> 0 | AI11: =Calcs!AN215 -> 0 | AJ11: =Calcs!AO215 -> 0 | AK11: =Calcs!AP215 -> 0 | AL11: =Calcs!AQ215 -> 0 | ... AP11: =Calcs!AU215 -> 0 | AQ11: =SUM(AE11:AP11) -> 0 | AR11: =Calcs!AV215 -> 0 | AS11: =Calcs!AW215 -> 0 | AT11: =Calcs!AX215 -> 0 | AU11: =Calcs!AY215 -> 0 | AV11: =Calcs!AZ215 -> 0 | AW11: =Calcs!BA215 -> 0 | AX11: =Calcs!BB215 -> 0 | AY11: =Calcs!BC215 -> 0 | ... BC11: =Calcs!BG215 -> 0 | BD11: =SUM(AR11:BC11) -> 0 | BE11: =Calcs!BH215 -> 0 | BF11: =Calcs!BI215 -> 0 | BG11: =Calcs!BJ215 -> 0 | BH11: =Calcs!BK215 -> 0 | BI11: =Calcs!BL215 -> 0 | BJ11: =Calcs!BM215 -> 0 | BK11: =Calcs!BN215 -> 0 | BL11: =Calcs!BO215 -> 0 | ... BP11: =Calcs!BS215 -> 0 | BQ11: =SUM(BE11:BP11) -> 0 | BS11: =SUM(BQ11,BD11,AQ11,AD11,Q11) -> 0 | BU11: =SUM(BQ11,BD11,AQ11,AD11,Q11)
D12: =Calcs!K216 -> Item 6 | E12: =Calcs!L216 -> 0 | F12: =Calcs!M216 -> 0 | G12: =Calcs!N216 -> 0 | H12: =Calcs!O216 -> 0 | I12: =Calcs!P216 -> 0 | J12: =Calcs!Q216 -> 0 | K12: =Calcs!R216 -> 0 | ... P12: =Calcs!W216 -> 0 | Q12: =SUM(E12:P12) -> 0 | R12: =Calcs!X216 -> 0 | S12: =Calcs!Y216 -> 0 | T12: =Calcs!Z216 -> 0 | U12: =Calcs!AA216 -> 0 | V12: =Calcs!AB216 -> 0 | W12: =Calcs!AC216 -> 0 | X12: =Calcs!AD216 -> 0 | Y12: =Calcs!AE216 -> 0 | ... AC12: =Calcs!AI216 -> 0 | AD12: =SUM(R12:AC12) -> 0 | AE12: =Calcs!AJ216 -> 0 | AF12: =Calcs!AK216 -> 0 | AG12: =Calcs!AL216 -> 0 | AH12: =Calcs!AM216 -> 0 | AI12: =Calcs!AN216 -> 0 | AJ12: =Calcs!AO216 -> 0 | AK12: =Calcs!AP216 -> 0 | AL12: =Calcs!AQ216 -> 0 | ... AP12: =Calcs!AU216 -> 0 | AQ12: =SUM(AE12:AP12) -> 0 | AR12: =Calcs!AV216 -> 0 | AS12: =Calcs!AW216 -> 0 | AT12: =Calcs!AX216 -> 0 | AU12: =Calcs!AY216 -> 0 | AV12: =Calcs!AZ216 -> 0 | AW12: =Calcs!BA216 -> 0 | AX12: =Calcs!BB216 -> 0 | AY12: =Calcs!BC216 -> 0 | ... BC12: =Calcs!BG216 -> 0 | BD12: =SUM(AR12:BC12) -> 0 | BE12: =Calcs!BH216 -> 0 | BF12: =Calcs!BI216 -> 0 | BG12: =Calcs!BJ216 -> 0 | BH12: =Calcs!BK216 -> 0 | BI12: =Calcs!BL216 -> 0 | BJ12: =Calcs!BM216 -> 0 | BK12: =Calcs!BN216 -> 0 | BL12: =Calcs!BO216 -> 0 | ... BP12: =Calcs!BS216 -> 0 | BQ12: =SUM(BE12:BP12) -> 0 | BS12: =SUM(BQ12,BD12,AQ12,AD12,Q12) -> 0 | BU12: =SUM(BQ12,BD12,AQ12,AD12,Q12)
D13: =Calcs!K217 -> Item 7 | E13: =Calcs!L217 -> 0 | F13: =Calcs!M217 -> 0 | G13: =Calcs!N217 -> 0 | H13: =Calcs!O217 -> 0 | I13: =Calcs!P217 -> 0 | J13: =Calcs!Q217 -> 0 | K13: =Calcs!R217 -> 0 | ... P13: =Calcs!W217 -> 0 | Q13: =SUM(E13:P13) -> 0 | R13: =Calcs!X217 -> 0 | S13: =Calcs!Y217 -> 0 | T13: =Calcs!Z217 -> 0 | U13: =Calcs!AA217 -> 0 | V13: =Calcs!AB217 -> 0 | W13: =Calcs!AC217 -> 0 | X13: =Calcs!AD217 -> 0 | Y13: =Calcs!AE217 -> 0 | ... AC13: =Calcs!AI217 -> 0 | AD13: =SUM(R13:AC13) -> 0 | AE13: =Calcs!AJ217 -> 0 | AF13: =Calcs!AK217 -> 0 | AG13: =Calcs!AL217 -> 0 | AH13: =Calcs!AM217 -> 0 | AI13: =Calcs!AN217 -> 0 | AJ13: =Calcs!AO217 -> 0 | AK13: =Calcs!AP217 -> 0 | AL13: =Calcs!AQ217 -> 0 | ... AP13: =Calcs!AU217 -> 0 | AQ13: =SUM(AE13:AP13) -> 0 | AR13: =Calcs!AV217 -> 0 | AS13: =Calcs!AW217 -> 0 | AT13: =Calcs!AX217 -> 0 | AU13: =Calcs!AY217 -> 0 | AV13: =Calcs!AZ217 -> 0 | AW13: =Calcs!BA217 -> 0 | AX13: =Calcs!BB217 -> 0 | AY13: =Calcs!BC217 -> 0 | ... BC13: =Calcs!BG217 -> 0 | BD13: =SUM(AR13:BC13) -> 0 | BE13: =Calcs!BH217 -> 0 | BF13: =Calcs!BI217 -> 0 | BG13: =Calcs!BJ217 -> 0 | BH13: =Calcs!BK217 -> 0 | BI13: =Calcs!BL217 -> 0 | BJ13: =Calcs!BM217 -> 0 | BK13: =Calcs!BN217 -> 0 | BL13: =Calcs!BO217 -> 0 | ... BP13: =Calcs!BS217 -> 0 | BQ13: =SUM(BE13:BP13) -> 0 | BS13: =SUM(BQ13,BD13,AQ13,AD13,Q13) -> 0 | BU13: =SUM(BQ13,BD13,AQ13,AD13,Q13)
D14: =Calcs!K218 -> Item 8 | E14: =Calcs!L218 -> 0 | F14: =Calcs!M218 -> 0 | G14: =Calcs!N218 -> 0 | H14: =Calcs!O218 -> 0 | I14: =Calcs!P218 -> 0 | J14: =Calcs!Q218 -> 0 | K14: =Calcs!R218 -> 0 | ... P14: =Calcs!W218 -> 0 | Q14: =SUM(E14:P14) -> 0 | R14: =Calcs!X218 -> 0 | S14: =Calcs!Y218 -> 0 | T14: =Calcs!Z218 -> 0 | U14: =Calcs!AA218 -> 0 | V14: =Calcs!AB218 -> 0 | W14: =Calcs!AC218 -> 0 | X14: =Calcs!AD218 -> 0 | Y14: =Calcs!AE218 -> 0 | ... AC14: =Calcs!AI218 -> 0 | AD14: =SUM(R14:AC14) -> 0 | AE14: =Calcs!AJ218 -> 0 | AF14: =Calcs!AK218 -> 0 | AG14: =Calcs!AL218 -> 0 | AH14: =Calcs!AM218 -> 0 | AI14: =Calcs!AN218 -> 0 | AJ14: =Calcs!AO218 -> 0 | AK14: =Calcs!AP218 -> 0 | AL14: =Calcs!AQ218 -> 0 | ... AP14: =Calcs!AU218 -> 0 | AQ14: =SUM(AE14:AP14) -> 0 | AR14: =Calcs!AV218 -> 0 | AS14: =Calcs!AW218 -> 0 | AT14: =Calcs!AX218 -> 0 | AU14: =Calcs!AY218 -> 0 | AV14: =Calcs!AZ218 -> 0 | AW14: =Calcs!BA218 -> 0 | AX14: =Calcs!BB218 -> 0 | AY14: =Calcs!BC218 -> 0 | ... BC14: =Calcs!BG218 -> 0 | BD14: =SUM(AR14:BC14) -> 0 | BE14: =Calcs!BH218 -> 0 | BF14: =Calcs!BI218 -> 0 | BG14: =Calcs!BJ218 -> 0 | BH14: =Calcs!BK218 -> 0 | BI14: =Calcs!BL218 -> 0 | BJ14: =Calcs!BM218 -> 0 | BK14: =Calcs!BN218 -> 0 | BL14: =Calcs!BO218 -> 0 | ... BP14: =Calcs!BS218 -> 0 | BQ14: =SUM(BE14:BP14) -> 0 | BS14: =SUM(BQ14,BD14,AQ14,AD14,Q14) -> 0 | BU14: =SUM(BQ14,BD14,AQ14,AD14,Q14)
D15: =Calcs!K219 -> Item 9 | E15: =Calcs!L219 -> 0 | F15: =Calcs!M219 -> 0 | G15: =Calcs!N219 -> 0 | H15: =Calcs!O219 -> 0 | I15: =Calcs!P219 -> 0 | J15: =Calcs!Q219 -> 0 | K15: =Calcs!R219 -> 0 | ... P15: =Calcs!W219 -> 0 | Q15: =SUM(E15:P15) -> 0 | R15: =Calcs!X219 -> 0 | S15: =Calcs!Y219 -> 0 | T15: =Calcs!Z219 -> 0 | U15: =Calcs!AA219 -> 0 | V15: =Calcs!AB219 -> 0 | W15: =Calcs!AC219 -> 0 | X15: =Calcs!AD219 -> 0 | Y15: =Calcs!AE219 -> 0 | ... AC15: =Calcs!AI219 -> 0 | AD15: =SUM(R15:AC15) -> 0 | AE15: =Calcs!AJ219 -> 0 | AF15: =Calcs!AK219 -> 0 | AG15: =Calcs!AL219 -> 0 | AH15: =Calcs!AM219 -> 0 | AI15: =Calcs!AN219 -> 0 | AJ15: =Calcs!AO219 -> 0 | AK15: =Calcs!AP219 -> 0 | AL15: =Calcs!AQ219 -> 0 | ... AP15: =Calcs!AU219 -> 0 | AQ15: =SUM(AE15:AP15) -> 0 | AR15: =Calcs!AV219 -> 0 | AS15: =Calcs!AW219 -> 0 | AT15: =Calcs!AX219 -> 0 | AU15: =Calcs!AY219 -> 0 | AV15: =Calcs!AZ219 -> 0 | AW15: =Calcs!BA219 -> 0 | AX15: =Calcs!BB219 -> 0 | AY15: =Calcs!BC219 -> 0 | ... BC15: =Calcs!BG219 -> 0 | BD15: =SUM(AR15:BC15) -> 0 | BE15: =Calcs!BH219 -> 0 | BF15: =Calcs!BI219 -> 0 | BG15: =Calcs!BJ219 -> 0 | BH15: =Calcs!BK219 -> 0 | BI15: =Calcs!BL219 -> 0 | BJ15: =Calcs!BM219 -> 0 | BK15: =Calcs!BN219 -> 0 | BL15: =Calcs!BO219 -> 0 | ... BP15: =Calcs!BS219 -> 0 | BQ15: =SUM(BE15:BP15) -> 0 | BS15: =SUM(BQ15,BD15,AQ15,AD15,Q15) -> 0 | BU15: =SUM(BQ15,BD15,AQ15,AD15,Q15)
D16: =Calcs!K220 -> Item 10 | E16: =Calcs!L220 -> 0 | F16: =Calcs!M220 -> 0 | G16: =Calcs!N220 -> 0 | H16: =Calcs!O220 -> 0 | I16: =Calcs!P220 -> 0 | J16: =Calcs!Q220 -> 0 | K16: =Calcs!R220 -> 0 | ... P16: =Calcs!W220 -> 0 | Q16: =SUM(E16:P16) -> 0 | R16: =Calcs!X220 -> 0 | S16: =Calcs!Y220 -> 0 | T16: =Calcs!Z220 -> 0 | U16: =Calcs!AA220 -> 0 | V16: =Calcs!AB220 -> 0 | W16: =Calcs!AC220 -> 0 | X16: =Calcs!AD220 -> 0 | Y16: =Calcs!AE220 -> 0 | ... AC16: =Calcs!AI220 -> 0 | AD16: =SUM(R16:AC16) -> 0 | AE16: =Calcs!AJ220 -> 0 | AF16: =Calcs!AK220 -> 0 | AG16: =Calcs!AL220 -> 0 | AH16: =Calcs!AM220 -> 0 | AI16: =Calcs!AN220 -> 0 | AJ16: =Calcs!AO220 -> 0 | AK16: =Calcs!AP220 -> 0 | AL16: =Calcs!AQ220 -> 0 | ... AP16: =Calcs!AU220 -> 0 | AQ16: =SUM(AE16:AP16) -> 0 | AR16: =Calcs!AV220 -> 0 | AS16: =Calcs!AW220 -> 0 | AT16: =Calcs!AX220 -> 0 | AU16: =Calcs!AY220 -> 0 | AV16: =Calcs!AZ220 -> 0 | AW16: =Calcs!BA220 -> 0 | AX16: =Calcs!BB220 -> 0 | AY16: =Calcs!BC220 -> 0 | ... BC16: =Calcs!BG220 -> 0 | BD16: =SUM(AR16:BC16) -> 0 | BE16: =Calcs!BH220 -> 0 | BF16: =Calcs!BI220 -> 0 | BG16: =Calcs!BJ220 -> 0 | BH16: =Calcs!BK220 -> 0 | BI16: =Calcs!BL220 -> 0 | BJ16: =Calcs!BM220 -> 0 | BK16: =Calcs!BN220 -> 0 | BL16: =Calcs!BO220 -> 0 | ... BP16: =Calcs!BS220 -> 0 | BQ16: =SUM(BE16:BP16) -> 0 | BS16: =SUM(BQ16,BD16,AQ16,AD16,Q16) -> 0 | BU16: =SUM(BQ16,BD16,AQ16,AD16,Q16)
D17: =Calcs!K221 -> Item 11 | E17: =Calcs!L221 -> 0 | F17: =Calcs!M221 -> 0 | G17: =Calcs!N221 -> 0 | H17: =Calcs!O221 -> 0 | I17: =Calcs!P221 -> 0 | J17: =Calcs!Q221 -> 0 | K17: =Calcs!R221 -> 0 | ... P17: =Calcs!W221 -> 0 | Q17: =SUM(E17:P17) -> 0 | R17: =Calcs!X221 -> 0 | S17: =Calcs!Y221 -> 0 | T17: =Calcs!Z221 -> 0 | U17: =Calcs!AA221 -> 0 | V17: =Calcs!AB221 -> 0 | W17: =Calcs!AC221 -> 0 | X17: =Calcs!AD221 -> 0 | Y17: =Calcs!AE221 -> 0 | ... AC17: =Calcs!AI221 -> 0 | AD17: =SUM(R17:AC17) -> 0 | AE17: =Calcs!AJ221 -> 0 | AF17: =Calcs!AK221 -> 0 | AG17: =Calcs!AL221 -> 0 | AH17: =Calcs!AM221 -> 0 | AI17: =Calcs!AN221 -> 0 | AJ17: =Calcs!AO221 -> 0 | AK17: =Calcs!AP221 -> 0 | AL17: =Calcs!AQ221 -> 0 | ... AP17: =Calcs!AU221 -> 0 | AQ17: =SUM(AE17:AP17) -> 0 | AR17: =Calcs!AV221 -> 0 | AS17: =Calcs!AW221 -> 0 | AT17: =Calcs!AX221 -> 0 | AU17: =Calcs!AY221 -> 0 | AV17: =Calcs!AZ221 -> 0 | AW17: =Calcs!BA221 -> 0 | AX17: =Calcs!BB221 -> 0 | AY17: =Calcs!BC221 -> 0 | ... BC17: =Calcs!BG221 -> 0 | BD17: =SUM(AR17:BC17) -> 0 | BE17: =Calcs!BH221 -> 0 | BF17: =Calcs!BI221 -> 0 | BG17: =Calcs!BJ221 -> 0 | BH17: =Calcs!BK221 -> 0 | BI17: =Calcs!BL221 -> 0 | BJ17: =Calcs!BM221 -> 0 | BK17: =Calcs!BN221 -> 0 | BL17: =Calcs!BO221 -> 0 | ... BP17: =Calcs!BS221 -> 0 | BQ17: =SUM(BE17:BP17) -> 0 | BS17: =SUM(BQ17,BD17,AQ17,AD17,Q17) -> 0 | BU17: =SUM(BQ17,BD17,AQ17,AD17,Q17)
D18: =Calcs!K222 -> Item 12 | E18: =Calcs!L222 -> 0 | F18: =Calcs!M222 -> 0 | G18: =Calcs!N222 -> 0 | H18: =Calcs!O222 -> 0 | I18: =Calcs!P222 -> 0 | J18: =Calcs!Q222 -> 0 | K18: =Calcs!R222 -> 0 | ... P18: =Calcs!W222 -> 0 | Q18: =SUM(E18:P18) -> 0 | R18: =Calcs!X222 -> 0 | S18: =Calcs!Y222 -> 0 | T18: =Calcs!Z222 -> 0 | U18: =Calcs!AA222 -> 0 | V18: =Calcs!AB222 -> 0 | W18: =Calcs!AC222 -> 0 | X18: =Calcs!AD222 -> 0 | Y18: =Calcs!AE222 -> 0 | ... AC18: =Calcs!AI222 -> 0 | AD18: =SUM(R18:AC18) -> 0 | AE18: =Calcs!AJ222 -> 0 | AF18: =Calcs!AK222 -> 0 | AG18: =Calcs!AL222 -> 0 | AH18: =Calcs!AM222 -> 0 | AI18: =Calcs!AN222 -> 0 | AJ18: =Calcs!AO222 -> 0 | AK18: =Calcs!AP222 -> 0 | AL18: =Calcs!AQ222 -> 0 | ... AP18: =Calcs!AU222 -> 0 | AQ18: =SUM(AE18:AP18) -> 0 | AR18: =Calcs!AV222 -> 0 | AS18: =Calcs!AW222 -> 0 | AT18: =Calcs!AX222 -> 0 | AU18: =Calcs!AY222 -> 0 | AV18: =Calcs!AZ222 -> 0 | AW18: =Calcs!BA222 -> 0 | AX18: =Calcs!BB222 -> 0 | AY18: =Calcs!BC222 -> 0 | ... BC18: =Calcs!BG222 -> 0 | BD18: =SUM(AR18:BC18) -> 0 | BE18: =Calcs!BH222 -> 0 | BF18: =Calcs!BI222 -> 0 | BG18: =Calcs!BJ222 -> 0 | BH18: =Calcs!BK222 -> 0 | BI18: =Calcs!BL222 -> 0 | BJ18: =Calcs!BM222 -> 0 | BK18: =Calcs!BN222 -> 0 | BL18: =Calcs!BO222 -> 0 | ... BP18: =Calcs!BS222 -> 0 | BQ18: =SUM(BE18:BP18) -> 0 | BS18: =SUM(BQ18,BD18,AQ18,AD18,Q18) -> 0 | BU18: =SUM(BQ18,BD18,AQ18,AD18,Q18)
... D20: =Calcs!K224 -> Item 14 | E20: =Calcs!L224 -> 0 | F20: =Calcs!M224 -> 0 | G20: =Calcs!N224 -> 0 | H20: =Calcs!O224 -> 0 | I20: =Calcs!P224 -> 0 | J20: =Calcs!Q224 -> 0 | K20: =Calcs!R224 -> 0 | ... P20: =Calcs!W224 -> 0 | Q20: =SUM(E20:P20) -> 0 | R20: =Calcs!X224 -> 0 | S20: =Calcs!Y224 -> 0 | T20: =Calcs!Z224 -> 0 | U20: =Calcs!AA224 -> 0 | V20: =Calcs!AB224 -> 0 | W20: =Calcs!AC224 -> 0 | X20: =Calcs!AD224 -> 0 | Y20: =Calcs!AE224 -> 0 | ... AC20: =Calcs!AI224 -> 0 | AD20: =SUM(R20:AC20) -> 0 | AE20: =Calcs!AJ224 -> 0 | AF20: =Calcs!AK224 -> 0 | AG20: =Calcs!AL224 -> 0 | AH20: =Calcs!AM224 -> 0 | AI20: =Calcs!AN224 -> 0 | AJ20: =Calcs!AO224 -> 0 | AK20: =Calcs!AP224 -> 0 | AL20: =Calcs!AQ224 -> 0 | ... AP20: =Calcs!AU224 -> 0 | AQ20: =SUM(AE20:AP20) -> 0 | AR20: =Calcs!AV224 -> 0 | AS20: =Calcs!AW224 -> 0 | AT20: =Calcs!AX224 -> 0 | AU20: =Calcs!AY224 -> 0 | AV20: =Calcs!AZ224 -> 0 | AW20: =Calcs!BA224 -> 0 | AX20: =Calcs!BB224 -> 0 | AY20: =Calcs!BC224 -> 0 | ... BC20: =Calcs!BG224 -> 0 | BD20: =SUM(AR20:BC20) -> 0 | BE20: =Calcs!BH224 -> 0 | BF20: =Calcs!BI224 -> 0 | BG20: =Calcs!BJ224 -> 0 | BH20: =Calcs!BK224 -> 0 | BI20: =Calcs!BL224 -> 0 | BJ20: =Calcs!BM224 -> 0 | BK20: =Calcs!BN224 -> 0 | BL20: =Calcs!BO224 -> 0 | ... BP20: =Calcs!BS224 -> 0 | BQ20: =SUM(BE20:BP20) -> 0 | BS20: =SUM(BQ20,BD20,AQ20,AD20,Q20) -> 0 | BU20: =SUM(BQ20,BD20,AQ20,AD20,Q20)
D21: =Calcs!K225 -> Item 15 | E21: =Calcs!L225 -> 0 | F21: =Calcs!M225 -> 0 | G21: =Calcs!N225 -> 0 | H21: =Calcs!O225 -> 0 | I21: =Calcs!P225 -> 0 | J21: =Calcs!Q225 -> 0 | K21: =Calcs!R225 -> 0 | ... P21: =Calcs!W225 -> 0 | Q21: =SUM(E21:P21) -> 0 | R21: =Calcs!X225 -> 0 | S21: =Calcs!Y225 -> 0 | T21: =Calcs!Z225 -> 0 | U21: =Calcs!AA225 -> 0 | V21: =Calcs!AB225 -> 0 | W21: =Calcs!AC225 -> 0 | X21: =Calcs!AD225 -> 0 | Y21: =Calcs!AE225 -> 0 | ... AC21: =Calcs!AI225 -> 0 | AD21: =SUM(R21:AC21) -> 0 | AE21: =Calcs!AJ225 -> 0 | AF21: =Calcs!AK225 -> 0 | AG21: =Calcs!AL225 -> 0 | AH21: =Calcs!AM225 -> 0 | AI21: =Calcs!AN225 -> 0 | AJ21: =Calcs!AO225 -> 0 | AK21: =Calcs!AP225 -> 0 | AL21: =Calcs!AQ225 -> 0 | ... AP21: =Calcs!AU225 -> 0 | AQ21: =SUM(AE21:AP21) -> 0 | AR21: =Calcs!AV225 -> 0 | AS21: =Calcs!AW225 -> 0 | AT21: =Calcs!AX225 -> 0 | AU21: =Calcs!AY225 -> 0 | AV21: =Calcs!AZ225 -> 0 | AW21: =Calcs!BA225 -> 0 | AX21: =Calcs!BB225 -> 0 | AY21: =Calcs!BC225 -> 0 | ... BC21: =Calcs!BG225 -> 0 | BD21: =SUM(AR21:BC21) -> 0 | BE21: =Calcs!BH225 -> 0 | BF21: =Calcs!BI225 -> 0 | BG21: =Calcs!BJ225 -> 0 | BH21: =Calcs!BK225 -> 0 | BI21: =Calcs!BL225 -> 0 | BJ21: =Calcs!BM225 -> 0 | BK21: =Calcs!BN225 -> 0 | BL21: =Calcs!BO225 -> 0 | ... BP21: =Calcs!BS225 -> 0 | BQ21: =SUM(BE21:BP21) -> 0 | BS21: =SUM(BQ21,BD21,AQ21,AD21,Q21) -> 0 | BU21: =SUM(BQ21,BD21,AQ21,AD21,Q21) | BV21: E-Mails | BW21: =SUM(Financials!E21:'Financials'!G21) -> 0 | BX21: =SUM(Financials!H21:'Financials'!J21) -> 0 | BY21: =SUM(Financials!K21:'Financials'!M21) -> 0 | BZ21: =SUM(Financials!N21:'Financials'!P21) -> 0 | CA21: =SUM(Financials!R21:'Financials'!T21) -> 0 | CB21: =SUM(Financials!U21:'Financials'!W21) -> 0 | CC21: =SUM(Financials!X21:'Financials'!Z21) -> 0 | CD21: =SUM(Financials!AA21:'Financials'!AC21) -> 0 | CE21: =SUM(Financials!AE21:'Financials'!AG21) -> 0 | CF21: =SUM(Financials!AH21:'Financials'!AJ21) -> 0 | CG21: =SUM(Financials!AK21:'Financials'!AM21) -> 0 | CH21: =SUM(Financials!AN21:'Financials'!AP21) -> 0 | CI21: =SUM(Financials!AR21:'Financials'!AT21) -> 0 | CJ21: =SUM(Financials!AU21:'Financials'!AW21) -> 0 | CK21: =SUM(Financials!AX21:'Financials'!AZ21) -> 0 | CL21: =SUM(Financials!BA21:'Financials'!BC21) -> 0 | CM21: =SUM(Financials!BE21:'Financials'!BG21) -> 0 | CN21: =SUM(Financials!BH21:'Financials'!BJ21) -> 0 | CO21: =SUM(Financials!BK21:'Financials'!BM21) -> 0 | CP21: =SUM(Financials!BN21:'Financials'!BP21) -> 0
D22: =Calcs!K226 -> Item 16 | E22: =Calcs!L226 -> 0 | F22: =Calcs!M226 -> 0 | G22: =Calcs!N226 -> 0 | H22: =Calcs!O226 -> 0 | I22: =Calcs!P226 -> 0 | J22: =Calcs!Q226 -> 0 | K22: =Calcs!R226 -> 0 | ... P22: =Calcs!W226 -> 0 | Q22: =SUM(E22:P22) -> 0 | R22: =Calcs!X226 -> 0 | S22: =Calcs!Y226 -> 0 | T22: =Calcs!Z226 -> 0 | U22: =Calcs!AA226 -> 0 | V22: =Calcs!AB226 -> 0 | W22: =Calcs!AC226 -> 0 | X22: =Calcs!AD226 -> 0 | Y22: =Calcs!AE226 -> 0 | ... AC22: =Calcs!AI226 -> 0 | AD22: =SUM(R22:AC22) -> 0 | AE22: =Calcs!AJ226 -> 0 | AF22: =Calcs!AK226 -> 0 | AG22: =Calcs!AL226 -> 0 | AH22: =Calcs!AM226 -> 0 | AI22: =Calcs!AN226 -> 0 | AJ22: =Calcs!AO226 -> 0 | AK22: =Calcs!AP226 -> 0 | AL22: =Calcs!AQ226 -> 0 | ... AP22: =Calcs!AU226 -> 0 | AQ22: =SUM(AE22:AP22) -> 0 | AR22: =Calcs!AV226 -> 0 | AS22: =Calcs!AW226 -> 0 | AT22: =Calcs!AX226 -> 0 | AU22: =Calcs!AY226 -> 0 | AV22: =Calcs!AZ226 -> 0 | AW22: =Calcs!BA226 -> 0 | AX22: =Calcs!BB226 -> 0 | AY22: =Calcs!BC226 -> 0 | ... BC22: =Calcs!BG226 -> 0 | BD22: =SUM(AR22:BC22) -> 0 | BE22: =Calcs!BH226 -> 0 | BF22: =Calcs!BI226 -> 0 | BG22: =Calcs!BJ226 -> 0 | BH22: =Calcs!BK226 -> 0 | BI22: =Calcs!BL226 -> 0 | BJ22: =Calcs!BM226 -> 0 | BK22: =Calcs!BN226 -> 0 | BL22: =Calcs!BO226 -> 0 | ... BP22: =Calcs!BS226 -> 0 | BQ22: =SUM(BE22:BP22) -> 0 | BS22: =SUM(BQ22,BD22,AQ22,AD22,Q22) -> 0 | BU22: =SUM(BQ22,BD22,AQ22,AD22,Q22) | BV22: Events | BW22: =SUM(Financials!E22:'Financials'!G22) -> 0 | BX22: =SUM(Financials!H22:'Financials'!J22) -> 0 | BY22: =SUM(Financials!K22:'Financials'!M22) -> 0 | BZ22: =SUM(Financials!N22:'Financials'!P22) -> 0 | CA22: =SUM(Financials!R22:'Financials'!T22) -> 0 | CB22: =SUM(Financials!U22:'Financials'!W22) -> 0 | CC22: =SUM(Financials!X22:'Financials'!Z22) -> 0 | CD22: =SUM(Financials!AA22:'Financials'!AC22) -> 0 | CE22: =SUM(Financials!AE22:'Financials'!AG22) -> 0 | CF22: =SUM(Financials!AH22:'Financials'!AJ22) -> 0 | CG22: =SUM(Financials!AK22:'Financials'!AM22) -> 0 | CH22: =SUM(Financials!AN22:'Financials'!AP22) -> 0 | CI22: =SUM(Financials!AR22:'Financials'!AT22) -> 0 | CJ22: =SUM(Financials!AU22:'Financials'!AW22) -> 0 | CK22: =SUM(Financials!AX22:'Financials'!AZ22) -> 0 | CL22: =SUM(Financials!BA22:'Financials'!BC22) -> 0 | CM22: =SUM(Financials!BE22:'Financials'!BG22) -> 0 | CN22: =SUM(Financials!BH22:'Financials'!BJ22) -> 0 | CO22: =SUM(Financials!BK22:'Financials'!BM22) -> 0 | CP22: =SUM(Financials!BN22:'Financials'!BP22) -> 0
D23: =Calcs!K227 -> Item 17 | E23: =Calcs!L227 -> 0 | F23: =Calcs!M227 -> 0 | G23: =Calcs!N227 -> 0 | H23: =Calcs!O227 -> 0 | I23: =Calcs!P227 -> 0 | J23: =Calcs!Q227 -> 0 | K23: =Calcs!R227 -> 0 | ... P23: =Calcs!W227 -> 0 | Q23: =SUM(E23:P23) | R23: =Calcs!X227 -> 0 | S23: =Calcs!Y227 -> 0 | T23: =Calcs!Z227 -> 0 | U23: =Calcs!AA227 -> 0 | V23: =Calcs!AB227 -> 0 | W23: =Calcs!AC227 -> 0 | X23: =Calcs!AD227 -> 0 | Y23: =Calcs!AE227 -> 0 | ... AC23: =Calcs!AI227 -> 0 | AD23: =SUM(R23:AC23) -> 0 | AE23: =Calcs!AJ227 -> 0 | AF23: =Calcs!AK227 -> 0 | AG23: =Calcs!AL227 -> 0 | AH23: =Calcs!AM227 -> 0 | AI23: =Calcs!AN227 -> 0 | AJ23: =Calcs!AO227 -> 0 | AK23: =Calcs!AP227 -> 0 | AL23: =Calcs!AQ227 -> 0 | ... AP23: =Calcs!AU227 -> 0 | AQ23: =SUM(AE23:AP23) -> 0 | AR23: =Calcs!AV227 -> 0 | AS23: =Calcs!AW227 -> 0 | AT23: =Calcs!AX227 -> 0 | AU23: =Calcs!AY227 -> 0 | AV23: =Calcs!AZ227 -> 0 | AW23: =Calcs!BA227 -> 0 | AX23: =Calcs!BB227 -> 0 | AY23: =Calcs!BC227 -> 0 | ... BC23: =Calcs!BG227 -> 0 | BD23: =SUM(AR23:BC23) -> 0 | BE23: =Calcs!BH227 -> 0 | BF23: =Calcs!BI227 -> 0 | BG23: =Calcs!BJ227 -> 0 | BH23: =Calcs!BK227 -> 0 | BI23: =Calcs!BL227 -> 0 | BJ23: =Calcs!BM227 -> 0 | BK23: =Calcs!BN227 -> 0 | BL23: =Calcs!BO227 -> 0 | ... BP23: =Calcs!BS227 -> 0 | BQ23: =SUM(BE23:BP23) -> 0 | BS23: =SUM(BQ23,BD23,AQ23,AD23,Q23) -> 0 | BU23: =SUM(BQ23,BD23,AQ23,AD23,Q23) | BV23: Podcasts | BW23: =SUM(Financials!E23:'Financials'!G23) -> 0 | BX23: =SUM(Financials!H23:'Financials'!J23) -> 0 | BY23: =SUM(Financials!K23:'Financials'!M23) -> 0 | BZ23: =SUM(Financials!N23:'Financials'!P23) -> 0 | CA23: =SUM(Financials!R23:'Financials'!T23) -> 0 | CB23: =SUM(Financials!U23:'Financials'!W23) -> 0 | CC23: =SUM(Financials!X23:'Financials'!Z23) -> 0 | CD23: =SUM(Financials!AA23:'Financials'!AC23) -> 0 | CE23: =SUM(Financials!AE23:'Financials'!AG23) -> 0 | CF23: =SUM(Financials!AH23:'Financials'!AJ23) -> 0 | CG23: =SUM(Financials!AK23:'Financials'!AM23) -> 0 | CH23: =SUM(Financials!AN23:'Financials'!AP23) -> 0 | CI23: =SUM(Financials!AR23:'Financials'!AT23) -> 0 | CJ23: =SUM(Financials!AU23:'Financials'!AW23) -> 0 | CK23: =SUM(Financials!AX23:'Financials'!AZ23) -> 0 | CL23: =SUM(Financials!BA23:'Financials'!BC23) -> 0 | CM23: =SUM(Financials!BE23:'Financials'!BG23) -> 0 | CN23: =SUM(Financials!BH23:'Financials'!BJ23) -> 0 | CO23: =SUM(Financials!BK23:'Financials'!BM23) -> 0 | CP23: =SUM(Financials!BN23:'Financials'!BP23) -> 0
D24: =Calcs!K228 -> Item 18 | E24: =Calcs!L228 -> 0 | F24: =Calcs!M228 -> 0 | G24: =Calcs!N228 -> 0 | H24: =Calcs!O228 -> 0 | I24: =Calcs!P228 -> 0 | J24: =Calcs!Q228 -> 0 | K24: =Calcs!R228 -> 0 | ... P24: =Calcs!W228 -> 0 | Q24: =SUM(E24:P24) -> 0 | R24: =Calcs!X228 -> 0 | S24: =Calcs!Y228 -> 0 | T24: =Calcs!Z228 -> 0 | U24: =Calcs!AA228 -> 0 | V24: =Calcs!AB228 -> 0 | W24: =Calcs!AC228 -> 0 | X24: =Calcs!AD228 -> 0 | Y24: =Calcs!AE228 -> 0 | ... AC24: =Calcs!AI228 -> 0 | AD24: =SUM(R24:AC24) -> 0 | AE24: =Calcs!AJ228 -> 0 | AF24: =Calcs!AK228 -> 0 | AG24: =Calcs!AL228 -> 0 | AH24: =Calcs!AM228 -> 0 | AI24: =Calcs!AN228 -> 0 | AJ24: =Calcs!AO228 -> 0 | AK24: =Calcs!AP228 -> 0 | AL24: =Calcs!AQ228 -> 0 | ... AP24: =Calcs!AU228 -> 0 | AQ24: =SUM(AE24:AP24) -> 0 | AR24: =Calcs!AV228 -> 0 | AS24: =Calcs!AW228 -> 0 | AT24: =Calcs!AX228 -> 0 | AU24: =Calcs!AY228 -> 0 | AV24: =Calcs!AZ228 -> 0 | AW24: =Calcs!BA228 -> 0 | AX24: =Calcs!BB228 -> 0 | AY24: =Calcs!BC228 -> 0 | ... BC24: =Calcs!BG228 -> 0 | BD24: =SUM(AR24:BC24) -> 0 | BE24: =Calcs!BH228 -> 0 | BF24: =Calcs!BI228 -> 0 | BG24: =Calcs!BJ228 -> 0 | BH24: =Calcs!BK228 -> 0 | BI24: =Calcs!BL228 -> 0 | BJ24: =Calcs!BM228 -> 0 | BK24: =Calcs!BN228 -> 0 | BL24: =Calcs!BO228 -> 0 | ... BP24: =Calcs!BS228 -> 0 | BQ24: =SUM(BE24:BP24) -> 0 | BS24: =SUM(BQ24,BD24,AQ24,AD24,Q24) -> 0 | BU24: =SUM(BQ24,BD24,AQ24,AD24,Q24) | BV24: Affiliate | BW24: =SUM(Financials!E24:'Financials'!G24) -> 0 | BX24: =SUM(Financials!H24:'Financials'!J24) -> 0 | BY24: =SUM(Financials!K24:'Financials'!M24) -> 0 | BZ24: =SUM(Financials!N24:'Financials'!P24) -> 0 | CA24: =SUM(Financials!R24:'Financials'!T24) -> 0 | CB24: =SUM(Financials!U24:'Financials'!W24) -> 0 | CC24: =SUM(Financials!X24:'Financials'!Z24) -> 0 | CD24: =SUM(Financials!AA24:'Financials'!AC24) -> 0 | CE24: =SUM(Financials!AE24:'Financials'!AG24) -> 0 | CF24: =SUM(Financials!AH24:'Financials'!AJ24) -> 0 | CG24: =SUM(Financials!AK24:'Financials'!AM24) -> 0 | CH24: =SUM(Financials!AN24:'Financials'!AP24) -> 0 | CI24: =SUM(Financials!AR24:'Financials'!AT24) -> 0 | CJ24: =SUM(Financials!AU24:'Financials'!AW24) -> 0 | CK24: =SUM(Financials!AX24:'Financials'!AZ24) -> 0 | CL24: =SUM(Financials!BA24:'Financials'!BC24) -> 0 | CM24: =SUM(Financials!BE24:'Financials'!BG24) -> 0 | CN24: =SUM(Financials!BH24:'Financials'!BJ24) -> 0 | CO24: =SUM(Financials!BK24:'Financials'!BM24) -> 0 | CP24: =SUM(Financials!BN24:'Financials'!BP24) -> 0
D25: =Calcs!K229 -> Item 19 | E25: =Calcs!L229 -> 0 | F25: =Calcs!M229 -> 0 | G25: =Calcs!N229 -> 0 | H25: =Calcs!O229 -> 0 | I25: =Calcs!P229 -> 0 | J25: =Calcs!Q229 -> 0 | K25: =Calcs!R229 -> 0 | ... P25: =Calcs!W229 -> 0 | Q25: =SUM(E25:P25) -> 0 | R25: =Calcs!X229 -> 0 | S25: =Calcs!Y229 -> 0 | T25: =Calcs!Z229 -> 0 | U25: =Calcs!AA229 -> 0 | V25: =Calcs!AB229 -> 0 | W25: =Calcs!AC229 -> 0 | X25: =Calcs!AD229 -> 0 | Y25: =Calcs!AE229 -> 0 | ... AC25: =Calcs!AI229 -> 0 | AD25: =SUM(R25:AC25) -> 0 | AE25: =Calcs!AJ229 -> 0 | AF25: =Calcs!AK229 -> 0 | AG25: =Calcs!AL229 -> 0 | AH25: =Calcs!AM229 -> 0 | AI25: =Calcs!AN229 -> 0 | AJ25: =Calcs!AO229 -> 0 | AK25: =Calcs!AP229 -> 0 | AL25: =Calcs!AQ229 -> 0 | ... AP25: =Calcs!AU229 -> 0 | AQ25: =SUM(AE25:AP25) -> 0 | AR25: =Calcs!AV229 -> 0 | AS25: =Calcs!AW229 -> 0 | AT25: =Calcs!AX229 -> 0 | AU25: =Calcs!AY229 -> 0 | AV25: =Calcs!AZ229 -> 0 | AW25: =Calcs!BA229 -> 0 | AX25: =Calcs!BB229 -> 0 | AY25: =Calcs!BC229 -> 0 | ... BC25: =Calcs!BG229 -> 0 | BD25: =SUM(AR25:BC25) -> 0 | BE25: =Calcs!BH229 -> 0 | BF25: =Calcs!BI229 -> 0 | BG25: =Calcs!BJ229 -> 0 | BH25: =Calcs!BK229 -> 0 | BI25: =Calcs!BL229 -> 0 | BJ25: =Calcs!BM229 -> 0 | BK25: =Calcs!BN229 -> 0 | BL25: =Calcs!BO229 -> 0 | ... BP25: =Calcs!BS229 -> 0 | BQ25: =SUM(BE25:BP25) -> 0 | BS25: =SUM(BQ25,BD25,AQ25,AD25,Q25) -> 0 | BU25: =SUM(BQ25,BD25,AQ25,AD25,Q25) -> 0 | BV25: =D25 -> Item 19 | BW25: =SUM(Financials!E25:'Financials'!G25) -> 0 | BX25: =SUM(Financials!H25:'Financials'!J25) -> 0 | BY25: =SUM(Financials!K25:'Financials'!M25) -> 0 | BZ25: =SUM(Financials!N25:'Financials'!P25) -> 0 | CA25: =SUM(Financials!R25:'Financials'!T25) -> 0 | CB25: =SUM(Financials!U25:'Financials'!W25) -> 0 | CC25: =SUM(Financials!X25:'Financials'!Z25) -> 0 | CD25: =SUM(Financials!AA25:'Financials'!AC25) -> 0 | CE25: =SUM(Financials!AE25:'Financials'!AG25) -> 0 | CF25: =SUM(Financials!AH25:'Financials'!AJ25) -> 0 | CG25: =SUM(Financials!AK25:'Financials'!AM25) -> 0 | CH25: =SUM(Financials!AN25:'Financials'!AP25) -> 0 | CI25: =SUM(Financials!AR25:'Financials'!AT25) -> 0 | CJ25: =SUM(Financials!AU25:'Financials'!AW25) -> 0 | CK25: =SUM(Financials!AX25:'Financials'!AZ25) -> 0 | CL25: =SUM(Financials!BA25:'Financials'!BC25) -> 0 | CM25: =SUM(Financials!BE25:'Financials'!BG25) -> 0 | CN25: =SUM(Financials!BH25:'Financials'!BJ25) -> 0 | CO25: =SUM(Financials!BK25:'Financials'!BM25) -> 0 | CP25: =SUM(Financials!BN25:'Financials'!BP25) -> 0
D26: =Calcs!K230 -> Item 20 | E26: =Calcs!L230 -> 0 | F26: =Calcs!M230 -> 0 | G26: =Calcs!N230 -> 0 | H26: =Calcs!O230 -> 0 | I26: =Calcs!P230 -> 0 | J26: =Calcs!Q230 -> 0 | K26: =Calcs!R230 -> 0 | ... P26: =Calcs!W230 -> 0 | Q26: =SUM(E26:P26) -> 0 | R26: =Calcs!X230 -> 0 | S26: =Calcs!Y230 -> 0 | T26: =Calcs!Z230 -> 0 | U26: =Calcs!AA230 -> 0 | V26: =Calcs!AB230 -> 0 | W26: =Calcs!AC230 -> 0 | X26: =Calcs!AD230 -> 0 | Y26: =Calcs!AE230 -> 0 | ... AC26: =Calcs!AI230 -> 0 | AD26: =SUM(R26:AC26) -> 0 | AE26: =Calcs!AJ230 -> 0 | AF26: =Calcs!AK230 -> 0 | AG26: =Calcs!AL230 -> 0 | AH26: =Calcs!AM230 -> 0 | AI26: =Calcs!AN230 -> 0 | AJ26: =Calcs!AO230 -> 0 | AK26: =Calcs!AP230 -> 0 | AL26: =Calcs!AQ230 -> 0 | ... AP26: =Calcs!AU230 -> 0 | AQ26: =SUM(AE26:AP26) -> 0 | AR26: =Calcs!AV230 -> 0 | AS26: =Calcs!AW230 -> 0 | AT26: =Calcs!AX230 -> 0 | AU26: =Calcs!AY230 -> 0 | AV26: =Calcs!AZ230 -> 0 | AW26: =Calcs!BA230 -> 0 | AX26: =Calcs!BB230 -> 0 | AY26: =Calcs!BC230 -> 0 | ... BC26: =Calcs!BG230 -> 0 | BD26: =SUM(AR26:BC26) -> 0 | BE26: =Calcs!BH230 -> 0 | BF26: =Calcs!BI230 -> 0 | BG26: =Calcs!BJ230 -> 0 | BH26: =Calcs!BK230 -> 0 | BI26: =Calcs!BL230 -> 0 | BJ26: =Calcs!BM230 -> 0 | BK26: =Calcs!BN230 -> 0 | BL26: =Calcs!BO230 -> 0 | ... BP26: =Calcs!BS230 -> 0 | BQ26: =SUM(BE26:BP26) -> 0 | BS26: =SUM(BQ26,BD26,AQ26,AD26,Q26) -> 0 | BU26: =SUM(BQ26,BD26,AQ26,AD26,Q26)
D27: =Calcs!K231 -> Item 21 | E27: =Calcs!L231 -> 0 | F27: =Calcs!M231 -> 0 | G27: =Calcs!N231 -> 0 | H27: =Calcs!O231 -> 0 | I27: =Calcs!P231 -> 0 | J27: =Calcs!Q231 -> 0 | K27: =Calcs!R231 -> 0 | ... P27: =Calcs!W231 -> 0 | Q27: =SUM(E27:P27) -> 0 | R27: =Calcs!X231 -> 0 | S27: =Calcs!Y231 -> 0 | T27: =Calcs!Z231 -> 0 | U27: =Calcs!AA231 -> 0 | V27: =Calcs!AB231 -> 0 | W27: =Calcs!AC231 -> 0 | X27: =Calcs!AD231 -> 0 | Y27: =Calcs!AE231 -> 0 | ... AC27: =Calcs!AI231 -> 0 | AD27: =SUM(R27:AC27) -> 0 | AE27: =Calcs!AJ231 -> 0 | AF27: =Calcs!AK231 -> 0 | AG27: =Calcs!AL231 -> 0 | AH27: =Calcs!AM231 -> 0 | AI27: =Calcs!AN231 -> 0 | AJ27: =Calcs!AO231 -> 0 | AK27: =Calcs!AP231 -> 0 | AL27: =Calcs!AQ231 -> 0 | ... AP27: =Calcs!AU231 -> 0 | AQ27: =SUM(AE27:AP27) -> 0 | AR27: =Calcs!AV231 -> 0 | AS27: =Calcs!AW231 -> 0 | AT27: =Calcs!AX231 -> 0 | AU27: =Calcs!AY231 -> 0 | AV27: =Calcs!AZ231 -> 0 | AW27: =Calcs!BA231 -> 0 | AX27: =Calcs!BB231 -> 0 | AY27: =Calcs!BC231 -> 0 | ... BC27: =Calcs!BG231 -> 0 | BD27: =SUM(AR27:BC27) -> 0 | BE27: =Calcs!BH231 -> 0 | BF27: =Calcs!BI231 -> 0 | BG27: =Calcs!BJ231 -> 0 | BH27: =Calcs!BK231 -> 0 | BI27: =Calcs!BL231 -> 0 | BJ27: =Calcs!BM231 -> 0 | BK27: =Calcs!BN231 -> 0 | BL27: =Calcs!BO231 -> 0 | ... BP27: =Calcs!BS231 -> 0 | BQ27: =SUM(BE27:BP27) -> 0 | BS27: =SUM(BQ27,BD27,AQ27,AD27,Q27) -> 0 | BU27: =SUM(BQ27,BD27,AQ27,AD27,Q27)
D28: =Calcs!K232 -> Item 22 | E28: =Calcs!L232 -> 0 | F28: =Calcs!M232 -> 0 | G28: =Calcs!N232 -> 0 | H28: =Calcs!O232 -> 0 | I28: =Calcs!P232 -> 0 | J28: =Calcs!Q232 -> 0 | K28: =Calcs!R232 -> 0 | ... P28: =Calcs!W232 -> 0 | Q28: =SUM(E28:P28) -> 0 | R28: =Calcs!X232 -> 0 | S28: =Calcs!Y232 -> 0 | T28: =Calcs!Z232 -> 0 | U28: =Calcs!AA232 -> 0 | V28: =Calcs!AB232 -> 0 | W28: =Calcs!AC232 -> 0 | X28: =Calcs!AD232 -> 0 | Y28: =Calcs!AE232 -> 0 | ... AC28: =Calcs!AI232 -> 0 | AD28: =SUM(R28:AC28) -> 0 | AE28: =Calcs!AJ232 -> 0 | AF28: =Calcs!AK232 -> 0 | AG28: =Calcs!AL232 -> 0 | AH28: =Calcs!AM232 -> 0 | AI28: =Calcs!AN232 -> 0 | AJ28: =Calcs!AO232 -> 0 | AK28: =Calcs!AP232 -> 0 | AL28: =Calcs!AQ232 -> 0 | ... AP28: =Calcs!AU232 -> 0 | AQ28: =SUM(AE28:AP28) -> 0 | AR28: =Calcs!AV232 -> 0 | AS28: =Calcs!AW232 -> 0 | AT28: =Calcs!AX232 -> 0 | AU28: =Calcs!AY232 -> 0 | AV28: =Calcs!AZ232 -> 0 | AW28: =Calcs!BA232 -> 0 | AX28: =Calcs!BB232 -> 0 | AY28: =Calcs!BC232 -> 0 | ... BC28: =Calcs!BG232 -> 0 | BD28: =SUM(AR28:BC28) -> 0 | BE28: =Calcs!BH232 -> 0 | BF28: =Calcs!BI232 -> 0 | BG28: =Calcs!BJ232 -> 0 | BH28: =Calcs!BK232 -> 0 | BI28: =Calcs!BL232 -> 0 | BJ28: =Calcs!BM232 -> 0 | BK28: =Calcs!BN232 -> 0 | BL28: =Calcs!BO232 -> 0 | ... BP28: =Calcs!BS232 -> 0 | BQ28: =SUM(BE28:BP28) -> 0 | BS28: =SUM(BQ28,BD28,AQ28,AD28,Q28) -> 0 | BU28: =SUM(BQ28,BD28,AQ28,AD28,Q28)
D29: =Calcs!K233 -> Item 23 | E29: =Calcs!L233 -> 0 | F29: =Calcs!M233 -> 0 | G29: =Calcs!N233 -> 0 | H29: =Calcs!O233 -> 0 | I29: =Calcs!P233 -> 0 | J29: =Calcs!Q233 -> 0 | K29: =Calcs!R233 -> 0 | ... P29: =Calcs!W233 -> 0 | Q29: =SUM(E29:P29) -> 0 | R29: =Calcs!X233 -> 0 | S29: =Calcs!Y233 -> 0 | T29: =Calcs!Z233 -> 0 | U29: =Calcs!AA233 -> 0 | V29: =Calcs!AB233 -> 0 | W29: =Calcs!AC233 -> 0 | X29: =Calcs!AD233 -> 0 | Y29: =Calcs!AE233 -> 0 | ... AC29: =Calcs!AI233 -> 0 | AD29: =SUM(R29:AC29) -> 0 | AE29: =Calcs!AJ233 -> 0 | AF29: =Calcs!AK233 -> 0 | AG29: =Calcs!AL233 -> 0 | AH29: =Calcs!AM233 -> 0 | AI29: =Calcs!AN233 -> 0 | AJ29: =Calcs!AO233 -> 0 | AK29: =Calcs!AP233 -> 0 | AL29: =Calcs!AQ233 -> 0 | ... AP29: =Calcs!AU233 -> 0 | AQ29: =SUM(AE29:AP29) -> 0 | AR29: =Calcs!AV233 -> 0 | AS29: =Calcs!AW233 -> 0 | AT29: =Calcs!AX233 -> 0 | AU29: =Calcs!AY233 -> 0 | AV29: =Calcs!AZ233 -> 0 | AW29: =Calcs!BA233 -> 0 | AX29: =Calcs!BB233 -> 0 | AY29: =Calcs!BC233 -> 0 | ... BC29: =Calcs!BG233 -> 0 | BD29: =SUM(AR29:BC29) -> 0 | BE29: =Calcs!BH233 -> 0 | BF29: =Calcs!BI233 -> 0 | BG29: =Calcs!BJ233 -> 0 | BH29: =Calcs!BK233 -> 0 | BI29: =Calcs!BL233 -> 0 | BJ29: =Calcs!BM233 -> 0 | BK29: =Calcs!BN233 -> 0 | BL29: =Calcs!BO233 -> 0 | ... BP29: =Calcs!BS233 -> 0 | BQ29: =SUM(BE29:BP29) -> 0 | BS29: =SUM(BQ29,BD29,AQ29,AD29,Q29) -> 0 | BU29: =SUM(BQ29,BD29,AQ29,AD29,Q29)
